BEGIN:VCALENDAR
VERSION:2.0
PRODID:-//MAAS-Alliance - ECPv6.15.12.2//NONSGML v1.0//EN
CALSCALE:GREGORIAN
METHOD:PUBLISH
X-ORIGINAL-URL:https://stagingmaas.brizzy.co.uk
X-WR-CALDESC:Events for MAAS-Alliance
REFRESH-INTERVAL;VALUE=DURATION:PT1H
X-Robots-Tag:noindex
X-PUBLISHED-TTL:PT1H
BEGIN:VTIMEZONE
TZID:Europe/Brussels
BEGIN:DAYLIGHT
TZOFFSETFROM:+0100
TZOFFSETTO:+0200
TZNAME:CEST
DTSTART:20170326T010000
END:DAYLIGHT
BEGIN:STANDARD
TZOFFSETFROM:+0200
TZOFFSETTO:+0100
TZNAME:CET
DTSTART:20171029T010000
END:STANDARD
BEGIN:DAYLIGHT
TZOFFSETFROM:+0100
TZOFFSETTO:+0200
TZNAME:CEST
DTSTART:20180325T010000
END:DAYLIGHT
BEGIN:STANDARD
TZOFFSETFROM:+0200
TZOFFSETTO:+0100
TZNAME:CET
DTSTART:20181028T010000
END:STANDARD
BEGIN:DAYLIGHT
TZOFFSETFROM:+0100
TZOFFSETTO:+0200
TZNAME:CEST
DTSTART:20190331T010000
END:DAYLIGHT
BEGIN:STANDARD
TZOFFSETFROM:+0200
TZOFFSETTO:+0100
TZNAME:CET
DTSTART:20191027T010000
END:STANDARD
END:VTIMEZONE
BEGIN:VEVENT
DTSTART;TZID=Europe/Brussels:20180618T190000
DTEND;TZID=Europe/Brussels:20180618T203000
DTSTAMP:20260424T162600
CREATED:20180528T152119Z
LAST-MODIFIED:20180528T152119Z
UID:1525-1529348400-1529353800@stagingmaas.brizzy.co.uk
SUMMARY:TRB Webinar | Nail it or Fail it: How to Build a Successful Mobility as a Service Story
DESCRIPTION:TRB will conduct a webinar on Monday\, June 18\, 2018 that discusses the state-of-the-practice of Mobility as a Service (MaaS) in Europe. MaaS is defined as a shift away from personally-owned modes of transportation and toward shared-use multimodal mobility. This mobility is enabled by combining transportation services from public and private transportation providers through a unified smartphone app that creates and manages the trip\, which users can pay for with a single account. \nPresenters will describe successful MaaS case studies from Denmark and Finland and explain how the MaaS ecosystem works. They will also explore a pilot MaaS program at Dallas Area Rapid Transit (DART). This webinar will explore how MaaS can meet passenger needs\, how MaaS can integrate public and private transportation\, and how to connect a variety of transportation options through one mobile app. \nWebinar Presenters \nChristina Hvid\, Rejseplanen\nPiia Karjalainen\, ERTICO – ITS Europe & MaaS Alliance\nJonna Pollanen\, MaaS Global\nGary Thomas\, DART \nModerated by:  Randy Iwasaki\, Contra Costa Transportation Authority \nWebinar Outline  \nHistory of Mobility as a Service\nEarly lessons learned based on European case studies\n– MaaS in Denmark\n– MaaS in Finland\n– MaaS ecosystem and success factors for implementation\nIntegration of MaaS in the United States: Case study from Dallas\, Texas\nQuestion and answer session \nThe first 60 minutes of the webinar will be for presentations and the final 30 minutes will be reserved for audience questions.
URL:https://stagingmaas.brizzy.co.uk/event/trb-webinar-nail-it-or-fail-it-how-to-build-a-successful-mobility-as-a-service-story/
LOCATION:Online
END:VEVENT
END:VCALENDAR