BEGIN:VCALENDAR
VERSION:2.0
PRODID:-//MAAS-Alliance - ECPv6.15.12.2//NONSGML v1.0//EN
CALSCALE:GREGORIAN
METHOD:PUBLISH
X-ORIGINAL-URL:https://stagingmaas.brizzy.co.uk
X-WR-CALDESC:Events for MAAS-Alliance
REFRESH-INTERVAL;VALUE=DURATION:PT1H
X-Robots-Tag:noindex
X-PUBLISHED-TTL:PT1H
BEGIN:VTIMEZONE
TZID:Europe/Brussels
BEGIN:DAYLIGHT
TZOFFSETFROM:+0100
TZOFFSETTO:+0200
TZNAME:CEST
DTSTART:20180325T010000
END:DAYLIGHT
BEGIN:STANDARD
TZOFFSETFROM:+0200
TZOFFSETTO:+0100
TZNAME:CET
DTSTART:20181028T010000
END:STANDARD
BEGIN:DAYLIGHT
TZOFFSETFROM:+0100
TZOFFSETTO:+0200
TZNAME:CEST
DTSTART:20190331T010000
END:DAYLIGHT
BEGIN:STANDARD
TZOFFSETFROM:+0200
TZOFFSETTO:+0100
TZNAME:CET
DTSTART:20191027T010000
END:STANDARD
BEGIN:DAYLIGHT
TZOFFSETFROM:+0100
TZOFFSETTO:+0200
TZNAME:CEST
DTSTART:20200329T010000
END:DAYLIGHT
BEGIN:STANDARD
TZOFFSETFROM:+0200
TZOFFSETTO:+0100
TZNAME:CET
DTSTART:20201025T010000
END:STANDARD
END:VTIMEZONE
BEGIN:VEVENT
DTSTART;VALUE=DATE:20190129
DTEND;VALUE=DATE:20190131
DTSTAMP:20260423T165614
CREATED:20181213T114144Z
LAST-MODIFIED:20181213T114144Z
UID:1958-1548720000-1548892799@stagingmaas.brizzy.co.uk
SUMMARY:Transport Ticketing Global 2019
DESCRIPTION:The MaaS Alliance is very pleased to be partnering with Transport Ticketing for the upcoming smart ticketing event for the transport industry\, to be held in London on 29-30 January.
URL:https://stagingmaas.brizzy.co.uk/event/transport-ticketing-global-2019/
LOCATION:London
ATTACH;FMTTYPE=image/png:https://stagingmaas.brizzy.co.uk/wp-content/uploads/2018/12/TTG19-one-week-to-go-social-banner-1024x512-1.png
END:VEVENT
END:VCALENDAR