BEGIN:VCALENDAR
VERSION:2.0
PRODID:-//MAAS-Alliance - ECPv6.15.12.2//NONSGML v1.0//EN
CALSCALE:GREGORIAN
METHOD:PUBLISH
X-WR-CALNAME:MAAS-Alliance
X-ORIGINAL-URL:https://stagingmaas.brizzy.co.uk
X-WR-CALDESC:Events for MAAS-Alliance
REFRESH-INTERVAL;VALUE=DURATION:PT1H
X-Robots-Tag:noindex
X-PUBLISHED-TTL:PT1H
BEGIN:VTIMEZONE
TZID:Europe/Brussels
BEGIN:DAYLIGHT
TZOFFSETFROM:+0100
TZOFFSETTO:+0200
TZNAME:CEST
DTSTART:20180325T010000
END:DAYLIGHT
BEGIN:STANDARD
TZOFFSETFROM:+0200
TZOFFSETTO:+0100
TZNAME:CET
DTSTART:20181028T010000
END:STANDARD
BEGIN:DAYLIGHT
TZOFFSETFROM:+0100
TZOFFSETTO:+0200
TZNAME:CEST
DTSTART:20190331T010000
END:DAYLIGHT
BEGIN:STANDARD
TZOFFSETFROM:+0200
TZOFFSETTO:+0100
TZNAME:CET
DTSTART:20191027T010000
END:STANDARD
BEGIN:DAYLIGHT
TZOFFSETFROM:+0100
TZOFFSETTO:+0200
TZNAME:CEST
DTSTART:20200329T010000
END:DAYLIGHT
BEGIN:STANDARD
TZOFFSETFROM:+0200
TZOFFSETTO:+0100
TZNAME:CET
DTSTART:20201025T010000
END:STANDARD
END:VTIMEZONE
BEGIN:VEVENT
DTSTART;VALUE=DATE:20191201
DTEND;VALUE=DATE:20191206
DTSTAMP:20260422T201751
CREATED:20191107T145217Z
LAST-MODIFIED:20191107T145217Z
UID:2622-1575158400-1575590399@stagingmaas.brizzy.co.uk
SUMMARY:ALAMYS General Assembly
DESCRIPTION:For more information\, visit the website and download the programme.
URL:https://stagingmaas.brizzy.co.uk/event/alamys-general-assembly/
LOCATION:Medellin\, Colombia
END:VEVENT
BEGIN:VEVENT
DTSTART;VALUE=DATE:20191203
DTEND;VALUE=DATE:20191205
DTSTAMP:20260422T201752
CREATED:20190408T103541Z
LAST-MODIFIED:20190408T103541Z
UID:2196-1575331200-1575503999@stagingmaas.brizzy.co.uk
SUMMARY:ICOMAAS - 2nd International Conference on Mobility as a Service
DESCRIPTION:
URL:https://stagingmaas.brizzy.co.uk/event/icomaas-2nd-international-conference-on-mobility-as-a-service/
LOCATION:Tampere\, Finland
ATTACH;FMTTYPE=image/png:https://stagingmaas.brizzy.co.uk/wp-content/uploads/2019/04/ICOMAAS.png
END:VEVENT
BEGIN:VEVENT
DTSTART;VALUE=DATE:20191203
DTEND;VALUE=DATE:20191206
DTSTAMP:20260422T201752
CREATED:20190905T073949Z
LAST-MODIFIED:20190905T073949Z
UID:2536-1575331200-1575590399@stagingmaas.brizzy.co.uk
SUMMARY:World Rail Festival
DESCRIPTION:The World Rail Festival is a world leading event that attracts global public transport operators to Amsterdam. Over 800 attendees join us to discuss commercial strategy\, digital transformation\, next generation ticketing\, customer experience\, revenue management\, MaaS and smart mobility\, stations\, connectivity\, real time information in the rail\, bus and urban mobility sectors. \nThe MaaS Alliance with Piia Karjalainen will be present on 3 December in the panel “What are the challenges in deployment of new mobility services?”. \nFind out more on the event website.
URL:https://stagingmaas.brizzy.co.uk/event/world-rail-festival-2/
LOCATION:Amsterdam
END:VEVENT
BEGIN:VEVENT
DTSTART;VALUE=DATE:20191204
DTEND;VALUE=DATE:20191207
DTSTAMP:20260422T201752
CREATED:20190905T074355Z
LAST-MODIFIED:20190905T074355Z
UID:2539-1575417600-1575676799@stagingmaas.brizzy.co.uk
SUMMARY:Amsterdam Drone Week
DESCRIPTION:Amsterdam Drone Week is the global platform for sharing knowledge on current air solutions\, potential innovations and vital regulations from 4 – 6 December in RAI Amsterdam. During three days all key players\, big and small\, commercial and non-commercial\, from various industries\, knowledge institutes and authorities\, gather to co-create and co-operate. \nFind out more on the event website.
URL:https://stagingmaas.brizzy.co.uk/event/amsterdam-drone-week/
LOCATION:Amsterdam
END:VEVENT
END:VCALENDAR