BEGIN:VCALENDAR
VERSION:2.0
PRODID:-//MAAS-Alliance - ECPv6.15.12.2//NONSGML v1.0//EN
CALSCALE:GREGORIAN
METHOD:PUBLISH
X-ORIGINAL-URL:https://stagingmaas.brizzy.co.uk
X-WR-CALDESC:Events for MAAS-Alliance
REFRESH-INTERVAL;VALUE=DURATION:PT1H
X-Robots-Tag:noindex
X-PUBLISHED-TTL:PT1H
BEGIN:VTIMEZONE
TZID:Europe/Brussels
BEGIN:DAYLIGHT
TZOFFSETFROM:+0100
TZOFFSETTO:+0200
TZNAME:CEST
DTSTART:20190331T010000
END:DAYLIGHT
BEGIN:STANDARD
TZOFFSETFROM:+0200
TZOFFSETTO:+0100
TZNAME:CET
DTSTART:20191027T010000
END:STANDARD
BEGIN:DAYLIGHT
TZOFFSETFROM:+0100
TZOFFSETTO:+0200
TZNAME:CEST
DTSTART:20200329T010000
END:DAYLIGHT
BEGIN:STANDARD
TZOFFSETFROM:+0200
TZOFFSETTO:+0100
TZNAME:CET
DTSTART:20201025T010000
END:STANDARD
BEGIN:DAYLIGHT
TZOFFSETFROM:+0100
TZOFFSETTO:+0200
TZNAME:CEST
DTSTART:20210328T010000
END:DAYLIGHT
BEGIN:STANDARD
TZOFFSETFROM:+0200
TZOFFSETTO:+0100
TZNAME:CET
DTSTART:20211031T010000
END:STANDARD
END:VTIMEZONE
BEGIN:VEVENT
DTSTART;TZID=Europe/Brussels:20201027T093000
DTEND;TZID=Europe/Brussels:20201027T133000
DTSTAMP:20260422T000418
CREATED:20200131T141954Z
LAST-MODIFIED:20200131T141954Z
UID:2778-1603791000-1603805400@stagingmaas.brizzy.co.uk
SUMMARY:3rd European MyCorridor Workshop - What we learned from MaaS
DESCRIPTION:MyCorridor\, the three-year MaaS project funded by the EU’s Horizon 2020 programme\, is nearing completion. Connecting MaaS issuers of various European cities and regions in order to speed up journey times and promote green choices in transport\, the MyCorridor project was designed to facilitate sustainable travel through the development of an innovative MaaS platform. At this project wrap-up event\, representatives from the MyCorridor consortium and invited guests will share valuable insights into the future of mobility\, based on the experiences gained via the MyCorridor project. \nJoin the event to find out more about the MaaS achievements made to date and discover what the future of cross-border\, collective\, interconnected transport looks like. Download the Agenda. \nREGISTER HERE
URL:https://stagingmaas.brizzy.co.uk/event/3rd-european-mycorridor-workshop/
LOCATION:ONLINE
END:VEVENT
END:VCALENDAR