BEGIN:VCALENDAR
VERSION:2.0
PRODID:-//MAAS-Alliance - ECPv6.15.12.2//NONSGML v1.0//EN
CALSCALE:GREGORIAN
METHOD:PUBLISH
X-ORIGINAL-URL:https://stagingmaas.brizzy.co.uk
X-WR-CALDESC:Events for MAAS-Alliance
REFRESH-INTERVAL;VALUE=DURATION:PT1H
X-Robots-Tag:noindex
X-PUBLISHED-TTL:PT1H
BEGIN:VTIMEZONE
TZID:Europe/Brussels
BEGIN:DAYLIGHT
TZOFFSETFROM:+0100
TZOFFSETTO:+0200
TZNAME:CEST
DTSTART:20180325T010000
END:DAYLIGHT
BEGIN:STANDARD
TZOFFSETFROM:+0200
TZOFFSETTO:+0100
TZNAME:CET
DTSTART:20181028T010000
END:STANDARD
BEGIN:DAYLIGHT
TZOFFSETFROM:+0100
TZOFFSETTO:+0200
TZNAME:CEST
DTSTART:20190331T010000
END:DAYLIGHT
BEGIN:STANDARD
TZOFFSETFROM:+0200
TZOFFSETTO:+0100
TZNAME:CET
DTSTART:20191027T010000
END:STANDARD
BEGIN:DAYLIGHT
TZOFFSETFROM:+0100
TZOFFSETTO:+0200
TZNAME:CEST
DTSTART:20200329T010000
END:DAYLIGHT
BEGIN:STANDARD
TZOFFSETFROM:+0200
TZOFFSETTO:+0100
TZNAME:CET
DTSTART:20201025T010000
END:STANDARD
END:VTIMEZONE
BEGIN:VEVENT
DTSTART;VALUE=DATE:20191002
DTEND;VALUE=DATE:20191005
DTSTAMP:20260424T012032
CREATED:20190904T135640Z
LAST-MODIFIED:20190904T135640Z
UID:2530-1569974400-1570233599@stagingmaas.brizzy.co.uk
SUMMARY:CIVITAS Forum 2019
DESCRIPTION:The CIVITAS Forum Conference 2019 will be held in Graz\, Austria\, from 2-4 October 2019. The 17th edition of Europe’s top sustainable urban mobility event will gather the leading figures in the field from across the continent and beyond. This varied group of city representatives\, practitioners\, policymakers and academics will debate and analyse the most pressing mobility topics and witness the pioneering solutions bringing cleaner\, better transport to Europe. \nFind out more on the event website.
URL:https://stagingmaas.brizzy.co.uk/event/civitas-forum-2019/
LOCATION:Graz\, Austria
END:VEVENT
BEGIN:VEVENT
DTSTART;VALUE=DATE:20191007
DTEND;VALUE=DATE:20191010
DTSTAMP:20260424T012032
CREATED:20190904T140523Z
LAST-MODIFIED:20190904T140523Z
UID:2533-1570406400-1570665599@stagingmaas.brizzy.co.uk
SUMMARY:Digital Transport Days 2019
DESCRIPTION:The 2019 Digital Transport Days\, the conference to bring together all actors involved in smart transport solutions\, will take place from 7 to 9 October in Helsinki\, Finland. The conference will feature many sessions focusing on topics such as ticketing for cross-border rail journeys to simplified maritime reporting and paperless freight. It will also feature an exhibition of EU supported projects (CEF\, Horizon 2020 and more funding programmes) with the possibility to test new prototypes. \nFind out more on the event website. \n 
URL:https://stagingmaas.brizzy.co.uk/event/digital-transport-days-2019/
LOCATION:Helsinki\, Finland
END:VEVENT
BEGIN:VEVENT
DTSTART;VALUE=DATE:20191015
DTEND;VALUE=DATE:20191016
DTSTAMP:20260424T012032
CREATED:20191001T142854Z
LAST-MODIFIED:20191001T142854Z
UID:2570-1571097600-1571183999@stagingmaas.brizzy.co.uk
SUMMARY:Shared and Micromobility Workshop: What's Beyond the Hype?
DESCRIPTION:Bringing together technical experts from Europe and North America\, this interactive event will provide technical and regulatory updates to policy-makers\, researchers and industry leaders on the state of play of shared and micromobility. Throughout three panel sessions\, participants will be invited to share views on challenges surrounding the uptake of Mobility-as-a-Service\, micromobility and new transport solutions. \nJehan de The\, Public Affairs Director\, Europcar Mobility Group will represent the MaaS Alliance in the first panel\, focusing on the current barriers and challenges to realizing widespread MaaS and the facilitatory role standardization can play. \nFor more information\, visit SAE International website.
URL:https://stagingmaas.brizzy.co.uk/event/shared-and-micromobility-workshop-whats-beyond-the-hype/
LOCATION:Paris
END:VEVENT
BEGIN:VEVENT
DTSTART;VALUE=DATE:20191021
DTEND;VALUE=DATE:20191026
DTSTAMP:20260424T012032
CREATED:20190408T102520Z
LAST-MODIFIED:20190408T102520Z
UID:2191-1571616000-1572047999@stagingmaas.brizzy.co.uk
SUMMARY:26th ITS World Congress
DESCRIPTION:
URL:https://stagingmaas.brizzy.co.uk/event/26th-its-world-congress/
LOCATION:Suntec City\, Singapore
ATTACH;FMTTYPE=image/jpeg:https://stagingmaas.brizzy.co.uk/wp-content/uploads/2019/04/header_mark-you-calendar.jpg
END:VEVENT
END:VCALENDAR