BEGIN:VCALENDAR
VERSION:2.0
PRODID:-//MAAS-Alliance - ECPv6.15.12.2//NONSGML v1.0//EN
CALSCALE:GREGORIAN
METHOD:PUBLISH
X-WR-CALNAME:MAAS-Alliance
X-ORIGINAL-URL:https://stagingmaas.brizzy.co.uk
X-WR-CALDESC:Events for MAAS-Alliance
REFRESH-INTERVAL;VALUE=DURATION:PT1H
X-Robots-Tag:noindex
X-PUBLISHED-TTL:PT1H
BEGIN:VTIMEZONE
TZID:Europe/Brussels
BEGIN:DAYLIGHT
TZOFFSETFROM:+0100
TZOFFSETTO:+0200
TZNAME:CEST
DTSTART:20210328T010000
END:DAYLIGHT
BEGIN:STANDARD
TZOFFSETFROM:+0200
TZOFFSETTO:+0100
TZNAME:CET
DTSTART:20211031T010000
END:STANDARD
BEGIN:DAYLIGHT
TZOFFSETFROM:+0100
TZOFFSETTO:+0200
TZNAME:CEST
DTSTART:20220327T010000
END:DAYLIGHT
BEGIN:STANDARD
TZOFFSETFROM:+0200
TZOFFSETTO:+0100
TZNAME:CET
DTSTART:20221030T010000
END:STANDARD
BEGIN:DAYLIGHT
TZOFFSETFROM:+0100
TZOFFSETTO:+0200
TZNAME:CEST
DTSTART:20230326T010000
END:DAYLIGHT
BEGIN:STANDARD
TZOFFSETFROM:+0200
TZOFFSETTO:+0100
TZNAME:CET
DTSTART:20231029T010000
END:STANDARD
BEGIN:DAYLIGHT
TZOFFSETFROM:+0100
TZOFFSETTO:+0200
TZNAME:CEST
DTSTART:20240331T010000
END:DAYLIGHT
BEGIN:STANDARD
TZOFFSETFROM:+0200
TZOFFSETTO:+0100
TZNAME:CET
DTSTART:20241027T010000
END:STANDARD
END:VTIMEZONE
BEGIN:VTIMEZONE
TZID:UTC
BEGIN:STANDARD
TZOFFSETFROM:+0000
TZOFFSETTO:+0000
TZNAME:UTC
DTSTART:20210101T000000
END:STANDARD
END:VTIMEZONE
BEGIN:VEVENT
DTSTART;VALUE=DATE:20220912
DTEND;VALUE=DATE:20220915
DTSTAMP:20260422T015830
CREATED:20220818T093642Z
LAST-MODIFIED:20220818T093642Z
UID:7319-1662940800-1663199999@stagingmaas.brizzy.co.uk
SUMMARY:EPA Congress & Exhibition 2022
DESCRIPTION:Every two years\, the European Parking Association (EPA) organises an international congress with more than 500 delegates from 32 countries that deals with parking as an essential component of the urban mobility system and an essential service in European cities. It discusses the perspectives and challenges of stationary traffic in connection with traffic development in the cities of Europe. The 20th EPA Congress\, taking place from 12 – 14 September under the theme ‘The EU Green Deal and the Future of Parking – Integrated solutions for Dynamic Urban Management\, will be one of the most complete and multidisciplinary events involving operators in the parking industry\, national and local public administrations\, representatives of European Commissions and Projects\, experts in the field of mobility\, urban logistics\, electrical mobility\, the data world\, ITS\, Apps and much more. \nDuring the two-day scientific programme\, renowned scientific experts\, politicians and the industry will give presentations on the latest developments in all matters related to parking. On the second day\, Tuesday\, 13 September\, Roelof Hellemans\, Secretary-General at the MaaS Alliance\, will present the MaaS Alliance vision of connecting parking with the proposition within MaaS in the session on Smart Parking – Smart Mobility: Interoperability\, Implementing Standardisation and Digitalisation. “Following the recent MoU signage with the European Parking Association\, the MaaS Alliance is pleased to have been invited to this year’s edition of the EPA Congress”\, says Roelof Hellemans\, MaaS Alliance Secretary-General. “With our growing membership involving key players in the field of smart parking and urban mobility solutions\, I am looking forward to discussing the importance of MaaS for cities and the role of MaaS in the context of traffic management and mobility solutions for our citizens”. \nFind out more about the Session Abstract and access the full programme. \nRegister here.
URL:https://stagingmaas.brizzy.co.uk/event/epa-congress-exhibition-2022/
ATTACH;FMTTYPE=image/png:https://stagingmaas.brizzy.co.uk/wp-content/uploads/2022/08/EPA-Banner-2-Social-media-1024x576-1.png
END:VEVENT
BEGIN:VEVENT
DTSTART;VALUE=DATE:20220918
DTEND;VALUE=DATE:20220923
DTSTAMP:20260422T015830
CREATED:20220224T070705Z
LAST-MODIFIED:20220824T062040Z
UID:6520-1663459200-1663891199@stagingmaas.brizzy.co.uk
SUMMARY:MoD/MaaS Global Forum at ITS World Congress LA 2022
DESCRIPTION:The 28th ITS World Congress in Los Angeles\, CA\, September 18-22 will explore “Transformation by Transportation.” As the premier event for uniting the global intelligent transportation systems (ITS) industry\, ITS World Congress is the forum to make meaningful connections\, experience inventive conference programs presented by industry experts\, and see cutting-edge technology in the Exhibit Hall. This year\, the MaaS Alliance will jointly sponsor the MOD/MaaS Global Forum: Advancing Inclusive\, Safe\, and Sustainable Mobility together with ITS America\, ERTICO\, and ITS Asia-Pacific. \nThe Global Forum will take place on Sunday\, September 18 from 1-4 PM Pacific Time in the Los Angeles Convention Center. The event will provide an opportunity to hear from regional leaders and subject matter experts and interactively engage in discussions with peers to explore the current state of Mobility on Demand (MOD) and Mobility as a Service (MaaS) in the global transportation ecosystem. The discussion will also highlight topics such as the sustainability implications and opportunities associated with MOD/MaaS\, as well as what can be done to improve access to and adoption of these tools and services. Please join us for this exciting\, in-person event. \n\n\n\n\n\n\n\n\n\n\n\n\n\n\n\n\n\n\n\nThis forum is invitation only. If you are interested in participating\, please contact Nicole DuPuis\, at ndupuis@itsa.org.\n\n\n\n\n\n\n\n\n\nFind out more information about the Programme and Registration at 2022 ITS World Congress website.
URL:https://stagingmaas.brizzy.co.uk/event/its-world-congress-los-angeles-2022/
ATTACH;FMTTYPE=image/jpeg:https://stagingmaas.brizzy.co.uk/wp-content/uploads/2022/02/Generic-ITSWC-Los-Angeles.jpg
END:VEVENT
BEGIN:VEVENT
DTSTART;VALUE=DATE:20221005
DTEND;VALUE=DATE:20221007
DTSTAMP:20260422T015830
CREATED:20220915T090357Z
LAST-MODIFIED:20221004T065405Z
UID:7421-1664928000-1665100799@stagingmaas.brizzy.co.uk
SUMMARY:Conference on Mobility-as-a-Service in Europe
DESCRIPTION:The mission of this conference is to discuss emerging trends\, recent pilots and deployments\, business and service models\, experience so far\, best practices\, lessons learned\, infrastructure requirements for MaaS\, the perspective of public transport authorities (PTAs) and public transport operators (PTOs)\, data sharing and privacy\, and the role of contactless payments in MaaS. The conference will also showcase noteworthy case studies and technological innovations. \nThe conference will bring together experts from leading transport authorities/agencies\, transit operators\, taxi fleet operators\, ride-hailing and ride-sharing service providers\, micro-mobility providers\, ministries and government departments\, solution providers\, system integrators\, fleet management software providers\, technology platform suppliers\, car-leasing and renting service providers\, fare collection system suppliers\, ticketing infrastructure providers\, investors\, consultants\, ICT infrastructure providers\, insurance companies\, regulatory organisations\, R&D institutes\, and academic institutions. They will present their perspective\, lessons from early projects and possible solutions. \nOn Wednesday\, 5 October\, the MaaS Alliance Secretary General\, Roelof Hellemans\, will present at the ‘Opening Keynote Session on Emerging Trends for User-centric MaaS‘ and discuss the overall story of the Open MaaS ECO System and the Alliance’s alignment with all stakeholders as well as the efforts towards facilitating the right tools to gain the Environmental Goals while keeping the focus on a User Centric approach. \nThroughout the two days\, the conference provides two targeted sessions\, panel discussions and case studies\, with participation from a wide range of international experts providing valuable insights and actionable advice. The agenda will also cover key recent developments and plans of cities to deploy MaaS in Europe\, as well as highlight the latest technological developments and solutions to improve customer experience. \nRead more about the Conference on MaaS in Europe. \n 
URL:https://stagingmaas.brizzy.co.uk/event/conference-on-mobility-as-a-service-in-europe/
ATTACH;FMTTYPE=image/jpeg:https://stagingmaas.brizzy.co.uk/wp-content/uploads/2022/09/Capture.jpg
END:VEVENT
BEGIN:VEVENT
DTSTART;VALUE=DATE:20221006
DTEND;VALUE=DATE:20221007
DTSTAMP:20260422T015830
CREATED:20220915T094506Z
LAST-MODIFIED:20220915T094506Z
UID:7423-1665014400-1665100799@stagingmaas.brizzy.co.uk
SUMMARY:Belgian ITS congress on the 6th of October in Brussels
DESCRIPTION:SAVE THE DATE: 6 OCTOBER 2022 \nThe ITS congress brings together all key decision makers from the private and the public sector with an interest in sustainable smart mobility solutions based on technology. It stimulates the exchange of information and networking between technology solution providers and end users of (mobile) ICT solutions. The goal is to increase awareness and accelerate the deployment of the most promising solutions. \nCongress Conference: \n\nTop speakers from the public and private sector opening the congress\nHigh-quality best practice cases brought by experts\nLaunches of new and innovative products and services\n10 sessions with each 3/4 on-topic speakers\n>700 participants\n\nSponsor expo: \n\n30 expo booths (Gold – Silver – Bronze)\nFloorplan\n\nThe ITS.be congress is the biggest smart mobility event in Belgium!
URL:https://stagingmaas.brizzy.co.uk/event/belgian-its-congress-on-the-6th-of-october-in-brussels/
ATTACH;FMTTYPE=image/jpeg:https://stagingmaas.brizzy.co.uk/wp-content/uploads/2022/09/its-ebanner_1.jpg
END:VEVENT
BEGIN:VEVENT
DTSTART;VALUE=DATE:20221012
DTEND;VALUE=DATE:20221014
DTSTAMP:20260422T015830
CREATED:20220812T121136Z
LAST-MODIFIED:20220812T121136Z
UID:7314-1665532800-1665705599@stagingmaas.brizzy.co.uk
SUMMARY:The International Mobility Summit 2022
DESCRIPTION:The International Mobility Summit by Electronomous will once again bring together the global mobility\, transport\, and smart city ecosystem in Copenhagen. Join thought leaders\, disruptors\, innovators\, investors\, energy providers\, and policymakers. \nLearn about the next generation of mobility challenges and opportunities\, explore cutting-edge Nordic technology and sustainable solutions helping to make our cities and municipalities greener and more sustainable. \nWhen? 12th – 13th October 2022 \nWhere? Bella Center Copenhagen\, Denmark \nGet your ticket here: https://www.electronomous.com/the-international-mobility-summit/tickets/  \n 
URL:https://stagingmaas.brizzy.co.uk/event/the-international-mobility-summit-2022/
ATTACH;FMTTYPE=image/jpeg:https://stagingmaas.brizzy.co.uk/wp-content/uploads/2022/08/TIMS22_Main-event-banner_generic_1200-x-600.jpg
END:VEVENT
BEGIN:VEVENT
DTSTART;VALUE=DATE:20221129
DTEND;VALUE=DATE:20221201
DTSTAMP:20260422T015830
CREATED:20220915T081222Z
LAST-MODIFIED:20220915T081222Z
UID:7418-1669680000-1669852799@stagingmaas.brizzy.co.uk
SUMMARY:International Conference on MaaS in Tampere\, Finland
DESCRIPTION:Tampere University will host the 3rd International Conference on Mobility as a Service (ICoMaaS) in Tampere\, Finland\, from 29th to 30th November 2022. \nMobility as a Service (MaaS) is a growing technology that provides seamless integration of mobility services through user-friendly platforms. MaaS facilitates integrated travel options via various modes and actors\, including public transport\, car-sharing\, ridesharing\, taxis\, bicycles and micromobility. \nMaaS offers the potential to reduce the reliance on private motor vehicles for travel\, in turn helping to address many modern problems faced by cities throughout the world\, including climate change\, congestion\, pollution\, transport poverty and social equity issues. While it is not novel that travel can be made by combining different modes and services\, MaaS facilitates seamless payments through a dedicated system\, providing higher levels of service\, reduced cost\, and a better user experience. MaaS research is accumulating rapidly. To date\, focus areas have included describing the concept\, identifying stakeholder roles\, feasibility studies for MaaS systems\, case studies from MaaS trials\, and policy implications when developing and operating systems. Beyond MaaS\, there is a range of other emerging applications and digital mobility solutions which can complement MaaS and the broader transportation system. \nVisit the event page for more information. \nRegister through here.
URL:https://stagingmaas.brizzy.co.uk/event/international-conference-on-maas-in-tampere-finland/
ATTACH;FMTTYPE=image/jpeg:https://stagingmaas.brizzy.co.uk/wp-content/uploads/2022/09/592bd865-dsc_0027_crop-1600x1071-2.jpg
END:VEVENT
BEGIN:VEVENT
DTSTART;VALUE=DATE:20230322
DTEND;VALUE=DATE:20230324
DTSTAMP:20260422T015830
CREATED:20221219T073408Z
LAST-MODIFIED:20221219T083641Z
UID:7754-1679443200-1679615999@stagingmaas.brizzy.co.uk
SUMMARY:Autonomy Mobility World Expo 2023
DESCRIPTION:Autonomy Mobility World Expo is the world’s largest annual gathering of international policymakers\, institutions\, NGOs\, corporations\, companies\, and start-ups focused on sustainable urban mobility solutions welcoming 200+ exhibitors\, 300+ speakers\, and 8\,000+ participants every year in March.\n\nThe event combines exhibition stands with a Startup Village and City Hub\, two conference programs (Industry Talk & City Voices – GetOurCitiesMoving)\, test tracks\, demos\, B2B\, B2G & G2G meetings\, and the Startup Challenge and Innovation Awards ceremony. The 7th edition of the expo will take place on March 22-23\, 2023\, in Paris\, Porte de Versailles Pavillon 6.\n\n\n\n\n\n\n1. Smart Mobility Cities \nRe-engineering cities for the shift from motorist to mobilist; includes the expansion of mass transit and the infrastructures for connected\, autonomous\, shared\, and electric vehicles.\n\n\n\n\n\n\n\n\n\n\n2. Mass Transit \nThe backbone of Smart Cities Mobility; complements active and shared mobility and is the best solution for moving large numbers of people quickly.\n\n\n\n\n\n\n\n\n\n3. Active Mobility\nShares the streets with multiple modes of mobility; includes walking\, cycling\, micromobility\, and other human-powered vehicles.  \n\n\n\n\n\n\n\n\n\n4. EV Fleets  \nCorporate fleets are going green with companies switching from ICE to EV; fleet managers need to understand assisting EV purchases\, charging infrastructure\, and optimizing driving through route planning and telematics.\n\n\n\n\n\n\n\n\n\n\n5. Shared Mobility  \nComprised of car\, bike\, and scooter sharing; encompasses the hardware\, software\, and services used by shared mobility operators.\n\n\n\n\n\n\n\n\n\n\n6. Urban logistics \nHow to complete the “last mile” while saving time and costs; includes cargo bikes\, delivery robots\, LEVs\, and other hardware\, as well as the software that manages fleets\, parcels\, and pickups.\n\n\n\n\n\n\n\n\n\n\n7. Autonomous Vehicles \nNeeds to be integrated with mass transit and shared services; constitutes driverless trains\, trams\, buses\, shuttles\, and\, cars as well as the hardware and software that enable autonomous mobility.
URL:https://stagingmaas.brizzy.co.uk/event/autonomy-mobility-world-expo-2023/
ATTACH;FMTTYPE=image/jpeg:https://stagingmaas.brizzy.co.uk/wp-content/uploads/2022/12/logo-autonomy-mobility-world-expo-paris.jpg
END:VEVENT
BEGIN:VEVENT
DTSTART;VALUE=DATE:20230522
DTEND;VALUE=DATE:20230525
DTSTAMP:20260422T015830
CREATED:20191125T130303Z
LAST-MODIFIED:20220812T120910Z
UID:2668-1684713600-1684972799@stagingmaas.brizzy.co.uk
SUMMARY:ITS European Congress Lisbon 2023
DESCRIPTION:ERTICO – ITS Europe and the Lisboa Câmara Municipal will proudly host the 15th ITS European Congress in Lisbon\, from 22 May to 24 May 2023 under the theme ‘ITS: The Game Changer’. The event will take place at the Lisbon Congress Centre\, located in the historical area of Belém\, next to the Tagus River. \nThe ITS Congresses offer a strategic opportunity for the transport industry to come together and experience the latest innovations\, with a slightly different focus for each year. The Congresses display the host city’s latest achievements in the field of intelligent mobility services\, supporting the hosts in increasing the awareness of the importance of new solutions and investments in the host region and country. \nLisbon is part of Europe’s entrepreneurial and innovation ecosystem and enjoys global recognition as a welcoming destination. In combination with ERTICO’s dedicated work to promote and develop smart and sustainable mobility solutions and services\, the ITS European Congress promises an interactive Conference programme\, innovative live demos and an energetic exhibition. \nAs the largest event in Europe entirely dedicated to smart mobility and digitalisation of transport\, the 15th ITS European Congress will deliver an outstanding event built around three pillars: \n\nAn International Conference with a High-Level Programme\, Special Interest Sessions (SIS)\, Technical Paper presentations as well as interactive workshops with top-level speakers and influencers.\nInnovative live demonstrations and outdoor technical visits covering an area on 25.000 sqm are dedicated to showcasing unique experiences of tomorrow’s mobility solutions and transport technologies.\nA lively exhibition filled with cutting-edge solutions focusing on contributing to a more sustainable\, smarter and cleaner mobility ecosystem.\n\nThe sheer speed and scope of innovative and smart mobility solutions\, propelled by technological developments as well as social and environmental needs are unprecedented. Intelligent transport systems and services have started to become more efficient\, demand-responsive and safe\, but more is to come. The innovative potential of ITS is too vast to foretell the mobile future. We only know that ITS: The Game Changer will keep changing the game – and the future. \nTake this unique opportunity and exchange ideas with ITS experts\, and explore innovative transport and mobility solutions that are changing the game in our cities.  Along with joining the discussion on the latest developments and future trends in intelligent transport\, you will also be able to attend a cutting-edge exhibition with more than 100 exhibitors\, including several start-ups presenting their latest innovative transport and smart city solutions. \nIf you are interested in the future of mobility\, then the ITS European Congress is an unmissable opportunity to join important discussions\, share your knowledge and learn about the latest technologies and policy developments in Europe. \nFor more information\, visit https://2023.itseuropeancongress.com/ \nStay up to date and join the discussion using #ITSLisbon2023
URL:https://stagingmaas.brizzy.co.uk/event/its-european-congress/
LOCATION:Lisbon\, Portugal
ATTACH;FMTTYPE=image/png:https://stagingmaas.brizzy.co.uk/wp-content/uploads/2019/11/ITS_LOGO_LANDSCAPE_NEGATIVE_COLOUR-03.png
END:VEVENT
END:VCALENDAR