BEGIN:VCALENDAR
VERSION:2.0
PRODID:-//MAAS-Alliance - ECPv6.15.12.2//NONSGML v1.0//EN
CALSCALE:GREGORIAN
METHOD:PUBLISH
X-ORIGINAL-URL:https://stagingmaas.brizzy.co.uk
X-WR-CALDESC:Events for MAAS-Alliance
REFRESH-INTERVAL;VALUE=DURATION:PT1H
X-Robots-Tag:noindex
X-PUBLISHED-TTL:PT1H
BEGIN:VTIMEZONE
TZID:Europe/Brussels
BEGIN:DAYLIGHT
TZOFFSETFROM:+0100
TZOFFSETTO:+0200
TZNAME:CEST
DTSTART:20170326T010000
END:DAYLIGHT
BEGIN:STANDARD
TZOFFSETFROM:+0200
TZOFFSETTO:+0100
TZNAME:CET
DTSTART:20171029T010000
END:STANDARD
BEGIN:DAYLIGHT
TZOFFSETFROM:+0100
TZOFFSETTO:+0200
TZNAME:CEST
DTSTART:20180325T010000
END:DAYLIGHT
BEGIN:STANDARD
TZOFFSETFROM:+0200
TZOFFSETTO:+0100
TZNAME:CET
DTSTART:20181028T010000
END:STANDARD
BEGIN:DAYLIGHT
TZOFFSETFROM:+0100
TZOFFSETTO:+0200
TZNAME:CEST
DTSTART:20190331T010000
END:DAYLIGHT
BEGIN:STANDARD
TZOFFSETFROM:+0200
TZOFFSETTO:+0100
TZNAME:CET
DTSTART:20191027T010000
END:STANDARD
BEGIN:DAYLIGHT
TZOFFSETFROM:+0100
TZOFFSETTO:+0200
TZNAME:CEST
DTSTART:20200329T010000
END:DAYLIGHT
BEGIN:STANDARD
TZOFFSETFROM:+0200
TZOFFSETTO:+0100
TZNAME:CET
DTSTART:20201025T010000
END:STANDARD
END:VTIMEZONE
BEGIN:VEVENT
DTSTART;VALUE=DATE:20180709
DTEND;VALUE=DATE:20180711
DTSTAMP:20260425T134652
CREATED:20170817T080625Z
LAST-MODIFIED:20170817T080625Z
UID:798-1531094400-1531267199@stagingmaas.brizzy.co.uk
SUMMARY:TaaS Technology Conference
DESCRIPTION:
URL:https://stagingmaas.brizzy.co.uk/event/taas-technology-conference/
LOCATION:Coventry\, United Kingdom
END:VEVENT
BEGIN:VEVENT
DTSTART;VALUE=DATE:20180913
DTEND;VALUE=DATE:20180915
DTSTAMP:20260425T134652
CREATED:20180208T102244Z
LAST-MODIFIED:20180208T102244Z
UID:1305-1536796800-1536969599@stagingmaas.brizzy.co.uk
SUMMARY:CityTech 2018
DESCRIPTION:
URL:https://stagingmaas.brizzy.co.uk/event/citytech-2018/
LOCATION:Milan\, Italy
END:VEVENT
BEGIN:VEVENT
DTSTART;VALUE=DATE:20180917
DTEND;VALUE=DATE:20180922
DTSTAMP:20260425T134652
CREATED:20171205T142931Z
LAST-MODIFIED:20171205T142931Z
UID:1200-1537142400-1537574399@stagingmaas.brizzy.co.uk
SUMMARY:25th ITS World Congress
DESCRIPTION:
URL:https://stagingmaas.brizzy.co.uk/event/25th-world-congress/
LOCATION:Copenhagen\, Denmark
END:VEVENT
BEGIN:VEVENT
DTSTART;VALUE=DATE:20180920
DTEND;VALUE=DATE:20180922
DTSTAMP:20260425T134652
CREATED:20180906T160404Z
LAST-MODIFIED:20180906T160404Z
UID:1675-1537401600-1537574399@stagingmaas.brizzy.co.uk
SUMMARY:Bologna for Innovative and Electric Mobility
DESCRIPTION:
URL:https://stagingmaas.brizzy.co.uk/event/bologna-for-innovative-and-electric-mobility/
LOCATION:Bologna\, Italy
END:VEVENT
BEGIN:VEVENT
DTSTART;VALUE=DATE:20181009
DTEND;VALUE=DATE:20181011
DTSTAMP:20260425T134652
CREATED:20180906T085059Z
LAST-MODIFIED:20180906T085059Z
UID:1666-1539043200-1539215999@stagingmaas.brizzy.co.uk
SUMMARY:Fleet Live 2018
DESCRIPTION:
URL:https://stagingmaas.brizzy.co.uk/event/fleet-live-2018/
LOCATION:Birmingham\, United Kingdom
END:VEVENT
BEGIN:VEVENT
DTSTART;VALUE=DATE:20181010
DTEND;VALUE=DATE:20181013
DTSTAMP:20260425T134652
CREATED:20171205T143335Z
LAST-MODIFIED:20171205T143335Z
UID:1206-1539129600-1539388799@stagingmaas.brizzy.co.uk
SUMMARY:46th European Transport Conference
DESCRIPTION:
URL:https://stagingmaas.brizzy.co.uk/event/46th-european-transport-conference/
LOCATION:Dublin\, Ireland
END:VEVENT
BEGIN:VEVENT
DTSTART;VALUE=DATE:20181018
DTEND;VALUE=DATE:20181021
DTSTAMP:20260425T134652
CREATED:20171113T113102Z
LAST-MODIFIED:20171113T113102Z
UID:1136-1539820800-1540079999@stagingmaas.brizzy.co.uk
SUMMARY:AUTONOMY & The Urban Mobility Summit
DESCRIPTION:
URL:https://stagingmaas.brizzy.co.uk/event/autonomy-urban-mobility-summit-2/
LOCATION:Paris
END:VEVENT
BEGIN:VEVENT
DTSTART;VALUE=DATE:20181023
DTEND;VALUE=DATE:20181026
DTSTAMP:20260425T134652
CREATED:20180906T090357Z
LAST-MODIFIED:20180906T090357Z
UID:1670-1540252800-1540511999@stagingmaas.brizzy.co.uk
SUMMARY:Busworld
DESCRIPTION:
URL:https://stagingmaas.brizzy.co.uk/event/busworld/
LOCATION:Moscow\, Russian Federation
END:VEVENT
BEGIN:VEVENT
DTSTART;VALUE=DATE:20181029
DTEND;VALUE=DATE:20181031
DTSTAMP:20260425T134652
CREATED:20180925T133926Z
LAST-MODIFIED:20180925T133926Z
UID:1759-1540771200-1540943999@stagingmaas.brizzy.co.uk
SUMMARY:Smart Mobility Summit
DESCRIPTION:
URL:https://stagingmaas.brizzy.co.uk/event/smart-mobility-summit/
LOCATION:Tel Aviv\, Israel
END:VEVENT
BEGIN:VEVENT
DTSTART;VALUE=DATE:20181101
DTEND;VALUE=DATE:20181103
DTSTAMP:20260425T134652
CREATED:20171113T112338Z
LAST-MODIFIED:20171113T112338Z
UID:1134-1541030400-1541203199@stagingmaas.brizzy.co.uk
SUMMARY:Intelligent Transport Conference
DESCRIPTION:
URL:https://stagingmaas.brizzy.co.uk/event/intelligent-transport-conference/
LOCATION:London
END:VEVENT
BEGIN:VEVENT
DTSTART;VALUE=DATE:20181105
DTEND;VALUE=DATE:20181108
DTSTAMP:20260425T134652
CREATED:20180925T134307Z
LAST-MODIFIED:20180925T134307Z
UID:1763-1541376000-1541635199@stagingmaas.brizzy.co.uk
SUMMARY:WoCoMoCo - World Collaborative Mobility Congress
DESCRIPTION:
URL:https://stagingmaas.brizzy.co.uk/event/wocomoco-world-collaborative-mobility-congress/
LOCATION:Rotterdam\, Netherlands
END:VEVENT
BEGIN:VEVENT
DTSTART;VALUE=DATE:20181107
DTEND;VALUE=DATE:20181111
DTSTAMP:20260425T134652
CREATED:20180104T160541Z
LAST-MODIFIED:20180104T160541Z
UID:1249-1541548800-1541894399@stagingmaas.brizzy.co.uk
SUMMARY:2nd International Urban Mobility Dialogue
DESCRIPTION:
URL:https://stagingmaas.brizzy.co.uk/event/2nd-international-urban-mobility-dialogue/
LOCATION:Berlin
END:VEVENT
BEGIN:VEVENT
DTSTART;VALUE=DATE:20181112
DTEND;VALUE=DATE:20181115
DTSTAMP:20260425T134652
CREATED:20180925T134613Z
LAST-MODIFIED:20180925T134613Z
UID:1766-1541980800-1542239999@stagingmaas.brizzy.co.uk
SUMMARY:WorldRail Festival
DESCRIPTION:
URL:https://stagingmaas.brizzy.co.uk/event/worldrail-festival/
LOCATION:Amsterdam
END:VEVENT
BEGIN:VEVENT
DTSTART;VALUE=DATE:20181113
DTEND;VALUE=DATE:20181115
DTSTAMP:20260425T134652
CREATED:20180906T091733Z
LAST-MODIFIED:20180906T091733Z
UID:1673-1542067200-1542239999@stagingmaas.brizzy.co.uk
SUMMARY:World Rail Festival
DESCRIPTION:
URL:https://stagingmaas.brizzy.co.uk/event/world-rail-festival/
LOCATION:Amsterdam
END:VEVENT
BEGIN:VEVENT
DTSTART;VALUE=DATE:20181113
DTEND;VALUE=DATE:20181116
DTSTAMP:20260425T134652
CREATED:20171205T143441Z
LAST-MODIFIED:20171205T143441Z
UID:1209-1542067200-1542326399@stagingmaas.brizzy.co.uk
SUMMARY:SmartCity Expo
DESCRIPTION:
URL:https://stagingmaas.brizzy.co.uk/event/smartcity-expo/
LOCATION:Barcelona\, Gran Via Venue\, Barcelona\, Spain
END:VEVENT
BEGIN:VEVENT
DTSTART;VALUE=DATE:20181120
DTEND;VALUE=DATE:20181123
DTSTAMP:20260425T134652
CREATED:20180925T135115Z
LAST-MODIFIED:20180925T135115Z
UID:1768-1542672000-1542931199@stagingmaas.brizzy.co.uk
SUMMARY:Hypermotion
DESCRIPTION:
URL:https://stagingmaas.brizzy.co.uk/event/hypermotion/
LOCATION:Frankfurt am Main\, Germany
END:VEVENT
BEGIN:VEVENT
DTSTART;VALUE=DATE:20190117
DTEND;VALUE=DATE:20190118
DTSTAMP:20260425T134652
CREATED:20181213T112840Z
LAST-MODIFIED:20181213T112840Z
UID:1957-1547683200-1547769599@stagingmaas.brizzy.co.uk
SUMMARY:Connected Smart Cities Conference 2019
DESCRIPTION:
URL:https://stagingmaas.brizzy.co.uk/event/connected-smart-cities-conference-2019/
LOCATION:Brussels
END:VEVENT
BEGIN:VEVENT
DTSTART;VALUE=DATE:20190129
DTEND;VALUE=DATE:20190131
DTSTAMP:20260425T134652
CREATED:20181213T114144Z
LAST-MODIFIED:20181213T114144Z
UID:1958-1548720000-1548892799@stagingmaas.brizzy.co.uk
SUMMARY:Transport Ticketing Global 2019
DESCRIPTION:The MaaS Alliance is very pleased to be partnering with Transport Ticketing for the upcoming smart ticketing event for the transport industry\, to be held in London on 29-30 January.
URL:https://stagingmaas.brizzy.co.uk/event/transport-ticketing-global-2019/
LOCATION:London
ATTACH;FMTTYPE=image/png:https://stagingmaas.brizzy.co.uk/wp-content/uploads/2018/12/TTG19-one-week-to-go-social-banner-1024x512-1.png
END:VEVENT
BEGIN:VEVENT
DTSTART;VALUE=DATE:20190226
DTEND;VALUE=DATE:20190227
DTSTAMP:20260425T134652
CREATED:20190123T130127Z
LAST-MODIFIED:20190123T130127Z
UID:2035-1551139200-1551225599@stagingmaas.brizzy.co.uk
SUMMARY:Multimodal transport: Passenger multimodality workshop on studies
DESCRIPTION:
URL:https://stagingmaas.brizzy.co.uk/event/multimodal-transport-passenger-multimodality-workshop-on-studies/
LOCATION:Brussels
END:VEVENT
BEGIN:VEVENT
DTSTART;VALUE=DATE:20190305
DTEND;VALUE=DATE:20190308
DTSTAMP:20260425T134652
CREATED:20181213T132210Z
LAST-MODIFIED:20181213T132210Z
UID:1959-1551744000-1552003199@stagingmaas.brizzy.co.uk
SUMMARY:Rail Live 2019
DESCRIPTION:
URL:https://stagingmaas.brizzy.co.uk/event/rail-live-2019/
LOCATION:Bilbao\, Bilbao Exhibition Centre\, Bilbao\, 48902\, Spain
END:VEVENT
BEGIN:VEVENT
DTSTART;VALUE=DATE:20190305
DTEND;VALUE=DATE:20190308
DTSTAMP:20260425T134652
CREATED:20190201T160658Z
LAST-MODIFIED:20190201T160658Z
UID:2069-1551744000-1552003199@stagingmaas.brizzy.co.uk
SUMMARY:National Shared Mobility Summit
DESCRIPTION:
URL:https://stagingmaas.brizzy.co.uk/event/shared-mobility-summit/
LOCATION:Chicago\, United States
END:VEVENT
BEGIN:VEVENT
DTSTART;VALUE=DATE:20190320
DTEND;VALUE=DATE:20190322
DTSTAMP:20260425T134652
CREATED:20181213T133738Z
LAST-MODIFIED:20181213T133738Z
UID:1961-1553040000-1553212799@stagingmaas.brizzy.co.uk
SUMMARY:4th MaaS Market Conference
DESCRIPTION:The conference is supported by the MaaS Alliance and special discounts are available for public sector organisations and their staff.
URL:https://stagingmaas.brizzy.co.uk/event/maas-market/
LOCATION:London
END:VEVENT
BEGIN:VEVENT
DTSTART;VALUE=DATE:20190502
DTEND;VALUE=DATE:20190503
DTSTAMP:20260425T134652
CREATED:20181213T135540Z
LAST-MODIFIED:20181213T135540Z
UID:1964-1556755200-1556841599@stagingmaas.brizzy.co.uk
SUMMARY:MaaS 2019 Melbourne
DESCRIPTION:
URL:https://stagingmaas.brizzy.co.uk/event/maas-2019-melbourne/
LOCATION:Melbourne\, Australia
END:VEVENT
BEGIN:VEVENT
DTSTART;VALUE=DATE:20190522
DTEND;VALUE=DATE:20190525
DTSTAMP:20260425T134652
CREATED:20181213T135346Z
LAST-MODIFIED:20181213T135346Z
UID:1963-1558483200-1558742399@stagingmaas.brizzy.co.uk
SUMMARY:ITF Summit 2019
DESCRIPTION:
URL:https://stagingmaas.brizzy.co.uk/event/itf-summit-2019/
LOCATION:Leipzig\, Germany
END:VEVENT
BEGIN:VEVENT
DTSTART;VALUE=DATE:20190525
DTEND;VALUE=DATE:20190528
DTSTAMP:20260425T134652
CREATED:20190514T124418Z
LAST-MODIFIED:20190514T124418Z
UID:2261-1558742400-1559001599@stagingmaas.brizzy.co.uk
SUMMARY:Busworld Central Asia
DESCRIPTION:
URL:https://stagingmaas.brizzy.co.uk/event/busworld-central-asia/
LOCATION:Almaty\, Kazakhstan
END:VEVENT
BEGIN:VEVENT
DTSTART;TZID=Europe/Brussels:20190614T100000
DTEND;TZID=Europe/Brussels:20190614T180000
DTSTAMP:20260425T134652
CREATED:20190607T144519Z
LAST-MODIFIED:20190607T144519Z
UID:2366-1560506400-1560535200@stagingmaas.brizzy.co.uk
SUMMARY:Global Debate "The Role of Cities in the Smart Mobility Economy"
DESCRIPTION:
URL:https://stagingmaas.brizzy.co.uk/event/global-debate-the-role-of-cities-in-the-smart-mobility-economy/
LOCATION:Paris
ATTACH;FMTTYPE=image/png:https://stagingmaas.brizzy.co.uk/wp-content/uploads/2019/05/GlobalDebate.png
END:VEVENT
BEGIN:VEVENT
DTSTART;VALUE=DATE:20190617
DTEND;VALUE=DATE:20190619
DTSTAMP:20260425T134652
CREATED:20190408T101620Z
LAST-MODIFIED:20190408T101620Z
UID:2185-1560729600-1560902399@stagingmaas.brizzy.co.uk
SUMMARY:6th European Conference on Sustainable Urban Mobility Plans (SUMP)
DESCRIPTION:
URL:https://stagingmaas.brizzy.co.uk/event/6th-european-conference-on-sustainable-urban-mobility-plans-sump/
LOCATION:Groningen\, Netherlands
ATTACH;FMTTYPE=image/png:https://stagingmaas.brizzy.co.uk/wp-content/uploads/2017/12/sump_conference_banner_dec_2018_v5_-_copy.png
END:VEVENT
BEGIN:VEVENT
DTSTART;VALUE=DATE:20190619
DTEND;VALUE=DATE:20190621
DTSTAMP:20260425T134652
CREATED:20190513T122314Z
LAST-MODIFIED:20190513T122314Z
UID:2238-1560902400-1561075199@stagingmaas.brizzy.co.uk
SUMMARY:IoT Tech Expo
DESCRIPTION:
URL:https://stagingmaas.brizzy.co.uk/event/iot-tech-expo/
LOCATION:Amsterdam
ATTACH;FMTTYPE=image/png:https://stagingmaas.brizzy.co.uk/wp-content/uploads/2017/12/IOT-TECH-EXPO-EUROPE-2019.png
END:VEVENT
BEGIN:VEVENT
DTSTART;VALUE=DATE:20190624
DTEND;VALUE=DATE:20190626
DTSTAMP:20260425T134652
CREATED:20190514T122948Z
LAST-MODIFIED:20190514T122948Z
UID:2259-1561334400-1561507199@stagingmaas.brizzy.co.uk
SUMMARY:IMPACT>MOBILITY
DESCRIPTION:
URL:https://stagingmaas.brizzy.co.uk/event/impactmobility/
LOCATION:Amsterdam
ATTACH;FMTTYPE=image/png:https://stagingmaas.brizzy.co.uk/wp-content/uploads/2019/05/Impact-Mobility-Event-Banner-1200x627-1.png
END:VEVENT
BEGIN:VEVENT
DTSTART;VALUE=DATE:20190726
DTEND;VALUE=DATE:20190801
DTSTAMP:20260425T134652
CREATED:20190408T102049Z
LAST-MODIFIED:20190408T102049Z
UID:2189-1564099200-1564617599@stagingmaas.brizzy.co.uk
SUMMARY:MobiTAS - HCI International 2019
DESCRIPTION:
URL:https://stagingmaas.brizzy.co.uk/event/mobitas-hci-international-2019/
LOCATION:Orlando\, Orlando\, Florida\, United States
END:VEVENT
END:VCALENDAR