BEGIN:VCALENDAR
VERSION:2.0
PRODID:-//MAAS-Alliance - ECPv6.15.12.2//NONSGML v1.0//EN
CALSCALE:GREGORIAN
METHOD:PUBLISH
X-WR-CALNAME:MAAS-Alliance
X-ORIGINAL-URL:https://stagingmaas.brizzy.co.uk
X-WR-CALDESC:Events for MAAS-Alliance
REFRESH-INTERVAL;VALUE=DURATION:PT1H
X-Robots-Tag:noindex
X-PUBLISHED-TTL:PT1H
BEGIN:VTIMEZONE
TZID:Europe/Brussels
BEGIN:DAYLIGHT
TZOFFSETFROM:+0100
TZOFFSETTO:+0200
TZNAME:CEST
DTSTART:20160327T010000
END:DAYLIGHT
BEGIN:STANDARD
TZOFFSETFROM:+0200
TZOFFSETTO:+0100
TZNAME:CET
DTSTART:20161030T010000
END:STANDARD
BEGIN:DAYLIGHT
TZOFFSETFROM:+0100
TZOFFSETTO:+0200
TZNAME:CEST
DTSTART:20170326T010000
END:DAYLIGHT
BEGIN:STANDARD
TZOFFSETFROM:+0200
TZOFFSETTO:+0100
TZNAME:CET
DTSTART:20171029T010000
END:STANDARD
BEGIN:DAYLIGHT
TZOFFSETFROM:+0100
TZOFFSETTO:+0200
TZNAME:CEST
DTSTART:20180325T010000
END:DAYLIGHT
BEGIN:STANDARD
TZOFFSETFROM:+0200
TZOFFSETTO:+0100
TZNAME:CET
DTSTART:20181028T010000
END:STANDARD
END:VTIMEZONE
BEGIN:VEVENT
DTSTART;VALUE=DATE:20170913
DTEND;VALUE=DATE:20170916
DTSTAMP:20260425T182701
CREATED:20170727T081212Z
LAST-MODIFIED:20170727T081212Z
UID:646-1505260800-1505519999@stagingmaas.brizzy.co.uk
SUMMARY:InformNorden
DESCRIPTION:
URL:https://stagingmaas.brizzy.co.uk/event/informnorden/
LOCATION:Aalborg\, Denmark
END:VEVENT
BEGIN:VEVENT
DTSTART;VALUE=DATE:20170905
DTEND;VALUE=DATE:20170906
DTSTAMP:20260425T182701
CREATED:20170717T120846Z
LAST-MODIFIED:20170717T120846Z
UID:514-1504569600-1504655999@stagingmaas.brizzy.co.uk
SUMMARY:Workshop on Mobility as a Service
DESCRIPTION:
URL:https://stagingmaas.brizzy.co.uk/event/workshop-mobility-service/
LOCATION:Geneva\, Switzerland
END:VEVENT
BEGIN:VEVENT
DTSTART;VALUE=DATE:20170619
DTEND;VALUE=DATE:20170620
DTSTAMP:20260425T182701
CREATED:20170717T151735Z
LAST-MODIFIED:20170717T151735Z
UID:572-1497830400-1497916799@stagingmaas.brizzy.co.uk
SUMMARY:MaaS Alliance General Assembly
DESCRIPTION:
URL:https://stagingmaas.brizzy.co.uk/event/maas-alliance-general-assembly/
LOCATION:Strasbourg\, France
ORGANIZER;CN="MaaS Alliance":MAILTO:https://stagingmaas.brizzy.co.uk/
END:VEVENT
BEGIN:VEVENT
DTSTART;VALUE=DATE:20170503
DTEND;VALUE=DATE:20170504
DTSTAMP:20260425T182701
CREATED:20170717T151612Z
LAST-MODIFIED:20170717T151612Z
UID:569-1493769600-1493855999@stagingmaas.brizzy.co.uk
SUMMARY:MaaS - IRU Joint Workshop
DESCRIPTION:
URL:https://stagingmaas.brizzy.co.uk/event/maas-iru-joint-workshop/
LOCATION:Brussels
ORGANIZER;CN="MaaS Alliance":MAILTO:https://stagingmaas.brizzy.co.uk/
END:VEVENT
BEGIN:VEVENT
DTSTART;VALUE=DATE:20170322
DTEND;VALUE=DATE:20170324
DTSTAMP:20260425T182701
CREATED:20170717T151253Z
LAST-MODIFIED:20170717T151253Z
UID:567-1490140800-1490313599@stagingmaas.brizzy.co.uk
SUMMARY:MaaS Market Conference
DESCRIPTION:
URL:https://stagingmaas.brizzy.co.uk/event/maas-market-conference/
LOCATION:London
END:VEVENT
BEGIN:VEVENT
DTSTART;VALUE=DATE:20170307
DTEND;VALUE=DATE:20170308
DTSTAMP:20260425T182701
CREATED:20170717T150719Z
LAST-MODIFIED:20170717T150719Z
UID:565-1488844800-1488931199@stagingmaas.brizzy.co.uk
SUMMARY:MEP Breakfast
DESCRIPTION:
URL:https://stagingmaas.brizzy.co.uk/event/mep-breakfast/
LOCATION:European Parliament\, Brussels\, Belgium
ORGANIZER;CN="MaaS Alliance":MAILTO:https://stagingmaas.brizzy.co.uk/
END:VEVENT
END:VCALENDAR