BEGIN:VCALENDAR
VERSION:2.0
PRODID:-//MAAS-Alliance - ECPv6.15.12.2//NONSGML v1.0//EN
CALSCALE:GREGORIAN
METHOD:PUBLISH
X-WR-CALNAME:MAAS-Alliance
X-ORIGINAL-URL:https://stagingmaas.brizzy.co.uk
X-WR-CALDESC:Events for MAAS-Alliance
REFRESH-INTERVAL;VALUE=DURATION:PT1H
X-Robots-Tag:noindex
X-PUBLISHED-TTL:PT1H
BEGIN:VTIMEZONE
TZID:Europe/Brussels
BEGIN:DAYLIGHT
TZOFFSETFROM:+0100
TZOFFSETTO:+0200
TZNAME:CEST
DTSTART:20160327T010000
END:DAYLIGHT
BEGIN:STANDARD
TZOFFSETFROM:+0200
TZOFFSETTO:+0100
TZNAME:CET
DTSTART:20161030T010000
END:STANDARD
BEGIN:DAYLIGHT
TZOFFSETFROM:+0100
TZOFFSETTO:+0200
TZNAME:CEST
DTSTART:20170326T010000
END:DAYLIGHT
BEGIN:STANDARD
TZOFFSETFROM:+0200
TZOFFSETTO:+0100
TZNAME:CET
DTSTART:20171029T010000
END:STANDARD
BEGIN:DAYLIGHT
TZOFFSETFROM:+0100
TZOFFSETTO:+0200
TZNAME:CEST
DTSTART:20180325T010000
END:DAYLIGHT
BEGIN:STANDARD
TZOFFSETFROM:+0200
TZOFFSETTO:+0100
TZNAME:CET
DTSTART:20181028T010000
END:STANDARD
BEGIN:DAYLIGHT
TZOFFSETFROM:+0100
TZOFFSETTO:+0200
TZNAME:CEST
DTSTART:20190331T010000
END:DAYLIGHT
BEGIN:STANDARD
TZOFFSETFROM:+0200
TZOFFSETTO:+0100
TZNAME:CET
DTSTART:20191027T010000
END:STANDARD
END:VTIMEZONE
BEGIN:VEVENT
DTSTART;VALUE=DATE:20170927
DTEND;VALUE=DATE:20170930
DTSTAMP:20260425T164310
CREATED:20170717T124908Z
LAST-MODIFIED:20170717T124908Z
UID:521-1506470400-1506729599@stagingmaas.brizzy.co.uk
SUMMARY:Civitas Forum 2017
DESCRIPTION:
URL:https://stagingmaas.brizzy.co.uk/event/civitas-forum-2017/
LOCATION:Torres Vedras\, Portugal
END:VEVENT
BEGIN:VEVENT
DTSTART;TZID=Europe/Brussels:20170927T140000
DTEND;TZID=Europe/Brussels:20170927T150000
DTSTAMP:20260425T164310
CREATED:20170831T152025Z
LAST-MODIFIED:20170831T152025Z
UID:842-1506520800-1506524400@stagingmaas.brizzy.co.uk
SUMMARY:Webinar | ITS Observatory Showcase: How to go MaaS? Business models\, tools and the use of public procurement
DESCRIPTION:
URL:https://stagingmaas.brizzy.co.uk/event/webinar-observatory-showcase-go-maas-business-models-tools-use-public-procurement/
LOCATION:Online
END:VEVENT
BEGIN:VEVENT
DTSTART;VALUE=DATE:20171018
DTEND;VALUE=DATE:20171019
DTSTAMP:20260425T164310
CREATED:20170724T103010Z
LAST-MODIFIED:20170724T103010Z
UID:588-1508284800-1508371199@stagingmaas.brizzy.co.uk
SUMMARY:Mobility as a Service: How to Make an Integrated Mobility Solution Successful
DESCRIPTION:
URL:https://stagingmaas.brizzy.co.uk/event/mobility-service-make-integrated-mobility-solution-successful/
LOCATION:Paris
END:VEVENT
BEGIN:VEVENT
DTSTART;VALUE=DATE:20171019
DTEND;VALUE=DATE:20171021
DTSTAMP:20260425T164310
CREATED:20170727T081448Z
LAST-MODIFIED:20170727T081448Z
UID:653-1508371200-1508543999@stagingmaas.brizzy.co.uk
SUMMARY:Smarter Travel Live! 2017
DESCRIPTION:
URL:https://stagingmaas.brizzy.co.uk/event/smarter-travel-live-2017/
LOCATION:Milton Keynes\, United Kingdom
END:VEVENT
BEGIN:VEVENT
DTSTART;VALUE=DATE:20171019
DTEND;VALUE=DATE:20171022
DTSTAMP:20260425T164310
CREATED:20170724T103654Z
LAST-MODIFIED:20170724T103654Z
UID:594-1508371200-1508630399@stagingmaas.brizzy.co.uk
SUMMARY:AUTONOMY & The Urban Mobility Summit
DESCRIPTION:
URL:https://stagingmaas.brizzy.co.uk/event/autonomy-urban-mobility-summit/
LOCATION:Paris
END:VEVENT
BEGIN:VEVENT
DTSTART;VALUE=DATE:20171026
DTEND;VALUE=DATE:20171027
DTSTAMP:20260425T164310
CREATED:20170908T083817Z
LAST-MODIFIED:20170908T083817Z
UID:881-1508976000-1509062399@stagingmaas.brizzy.co.uk
SUMMARY:Future of Mobility - MOBI Seminar 2017
DESCRIPTION:
URL:https://stagingmaas.brizzy.co.uk/event/future-mobility-mobi-seminar-2017/
LOCATION:Brussels
END:VEVENT
BEGIN:VEVENT
DTSTART;VALUE=DATE:20171029
DTEND;VALUE=DATE:20171103
DTSTAMP:20260425T164310
CREATED:20170717T141817Z
LAST-MODIFIED:20170717T141817Z
UID:526-1509235200-1509667199@stagingmaas.brizzy.co.uk
SUMMARY:ITS World Congress
DESCRIPTION:
URL:https://stagingmaas.brizzy.co.uk/event/its-world-congress/
LOCATION:Montreal\, Canada
END:VEVENT
BEGIN:VEVENT
DTSTART;VALUE=DATE:20171031
DTEND;VALUE=DATE:20171101
DTSTAMP:20260425T164310
CREATED:20170717T142142Z
LAST-MODIFIED:20170717T142142Z
UID:532-1509408000-1509494399@stagingmaas.brizzy.co.uk
SUMMARY:Intelligent Transport
DESCRIPTION:
URL:https://stagingmaas.brizzy.co.uk/event/intelligent-transport/
LOCATION:London
END:VEVENT
BEGIN:VEVENT
DTSTART;VALUE=DATE:20171101
DTEND;VALUE=DATE:20171105
DTSTAMP:20260425T164310
CREATED:20171009T080735Z
LAST-MODIFIED:20171009T080735Z
UID:1051-1509494400-1509839999@stagingmaas.brizzy.co.uk
SUMMARY:1st International Urban Mobility Dialogue
DESCRIPTION:
URL:https://stagingmaas.brizzy.co.uk/event/1st-international-urban-mobility-dialogue/
LOCATION:Berlin
END:VEVENT
BEGIN:VEVENT
DTSTART;VALUE=DATE:20171103
DTEND;VALUE=DATE:20171104
DTSTAMP:20260425T164310
CREATED:20170717T142410Z
LAST-MODIFIED:20170717T142410Z
UID:537-1509667200-1509753599@stagingmaas.brizzy.co.uk
SUMMARY:C3 Connected Mobility Focus Series Event: Mobility as a Service
DESCRIPTION:
URL:https://stagingmaas.brizzy.co.uk/event/c3-connected-mobility-focus-series-event-mobility-service/
LOCATION:Troy\, Michigan\, United States
END:VEVENT
BEGIN:VEVENT
DTSTART;VALUE=DATE:20171106
DTEND;VALUE=DATE:20171109
DTSTAMP:20260425T164310
CREATED:20170724T104205Z
LAST-MODIFIED:20170724T104205Z
UID:596-1509926400-1510185599@stagingmaas.brizzy.co.uk
SUMMARY:SmartMetro
DESCRIPTION:
URL:https://stagingmaas.brizzy.co.uk/event/smartmetro/
LOCATION:Paris
END:VEVENT
BEGIN:VEVENT
DTSTART;VALUE=DATE:20171114
DTEND;VALUE=DATE:20171117
DTSTAMP:20260425T164310
CREATED:20170724T103250Z
LAST-MODIFIED:20170724T103250Z
UID:591-1510617600-1510876799@stagingmaas.brizzy.co.uk
SUMMARY:Smart Mobility World Congress
DESCRIPTION:
URL:https://stagingmaas.brizzy.co.uk/event/smart-mobility-world-congress/
LOCATION:Barcelona\, Gran Via Venue\, Barcelona\, Spain
END:VEVENT
BEGIN:VEVENT
DTSTART;VALUE=DATE:20171114
DTEND;VALUE=DATE:20171118
DTSTAMP:20260425T164310
CREATED:20170727T080721Z
LAST-MODIFIED:20170727T080721Z
UID:641-1510617600-1510963199@stagingmaas.brizzy.co.uk
SUMMARY:IRF World Road Meeting 2017
DESCRIPTION:
URL:https://stagingmaas.brizzy.co.uk/event/irf-world-road-meeting-2017/
LOCATION:Delhi\, India
END:VEVENT
BEGIN:VEVENT
DTSTART;VALUE=DATE:20171115
DTEND;VALUE=DATE:20171116
DTSTAMP:20260425T164310
CREATED:20170927T092851Z
LAST-MODIFIED:20170927T092851Z
UID:1027-1510704000-1510790399@stagingmaas.brizzy.co.uk
SUMMARY:Kompis Meetup 2
DESCRIPTION:
URL:https://stagingmaas.brizzy.co.uk/event/kompis-meetup-2/
LOCATION:Gothenburg\, Sweden
END:VEVENT
BEGIN:VEVENT
DTSTART;VALUE=DATE:20171122
DTEND;VALUE=DATE:20171124
DTSTAMP:20260425T164310
CREATED:20170727T081643Z
LAST-MODIFIED:20170727T081643Z
UID:656-1511308800-1511481599@stagingmaas.brizzy.co.uk
SUMMARY:Smart Mobility 2020: Innovative and Sustainable Urban Transport in Europe
DESCRIPTION:
URL:https://stagingmaas.brizzy.co.uk/event/smart-mobility-2020-innovative-sustainable-urban-transport-europe/
LOCATION:Tallinn\, Estonia
END:VEVENT
BEGIN:VEVENT
DTSTART;VALUE=DATE:20171128
DTEND;VALUE=DATE:20171130
DTSTAMP:20260425T164310
CREATED:20170717T142953Z
LAST-MODIFIED:20170717T142953Z
UID:547-1511827200-1511999999@stagingmaas.brizzy.co.uk
SUMMARY:1st International Conference on Mobility as a Service
DESCRIPTION:
URL:https://stagingmaas.brizzy.co.uk/event/1st-international-conference-mobility-service/
LOCATION:Tampere\, Finland
END:VEVENT
BEGIN:VEVENT
DTSTART;VALUE=DATE:20171129
DTEND;VALUE=DATE:20171130
DTSTAMP:20260425T164310
CREATED:20170717T142733Z
LAST-MODIFIED:20170717T142733Z
UID:543-1511913600-1511999999@stagingmaas.brizzy.co.uk
SUMMARY:MaaS Summit
DESCRIPTION:The MaaS Summit is accessible on an invitation-only basis.
URL:https://stagingmaas.brizzy.co.uk/event/maas-summit/
LOCATION:Tampere\, Finland
ORGANIZER;CN="MaaS Alliance":MAILTO:https://stagingmaas.brizzy.co.uk/
END:VEVENT
BEGIN:VEVENT
DTSTART;VALUE=DATE:20171207
DTEND;VALUE=DATE:20171209
DTSTAMP:20260425T164310
CREATED:20170717T143303Z
LAST-MODIFIED:20170717T143303Z
UID:553-1512604800-1512777599@stagingmaas.brizzy.co.uk
SUMMARY:“Smart Cities and Mobility as a Service” International Conference
DESCRIPTION:
URL:https://stagingmaas.brizzy.co.uk/event/smart-cities-mobility-service-international-conference/
LOCATION:Patras\, Greece
END:VEVENT
BEGIN:VEVENT
DTSTART;VALUE=DATE:20171214
DTEND;VALUE=DATE:20171215
DTSTAMP:20260425T164310
CREATED:20171020T132653Z
LAST-MODIFIED:20171020T132653Z
UID:1093-1513209600-1513295999@stagingmaas.brizzy.co.uk
SUMMARY:MaaS Alliance Plenary Assembly
DESCRIPTION:
URL:https://stagingmaas.brizzy.co.uk/event/maas-alliance-plenary-assembly/
LOCATION:Brussels
END:VEVENT
BEGIN:VEVENT
DTSTART;VALUE=DATE:20180107
DTEND;VALUE=DATE:20180112
DTSTAMP:20260425T164310
CREATED:20170724T105019Z
LAST-MODIFIED:20170724T105019Z
UID:604-1515283200-1515715199@stagingmaas.brizzy.co.uk
SUMMARY:Transportation Research Board - 97th Annual Meeting
DESCRIPTION:
URL:https://stagingmaas.brizzy.co.uk/event/transportation-research-board-97th-annual-meeting/
LOCATION:Washington\, D.C.\, United States
END:VEVENT
BEGIN:VEVENT
DTSTART;VALUE=DATE:20180111
DTEND;VALUE=DATE:20180112
DTSTAMP:20260425T164310
CREATED:20171205T135926Z
LAST-MODIFIED:20171205T135926Z
UID:1154-1515628800-1515715199@stagingmaas.brizzy.co.uk
SUMMARY:Seminar: Next steps for intelligent mobility and developing a smart transport system
DESCRIPTION:
URL:https://stagingmaas.brizzy.co.uk/event/seminar-next-steps-intelligent-mobility-developing-smart-transport-system/
LOCATION:London
END:VEVENT
BEGIN:VEVENT
DTSTART;VALUE=DATE:20180111
DTEND;VALUE=DATE:20180112
DTSTAMP:20260425T164310
CREATED:20180104T155932Z
LAST-MODIFIED:20180104T155932Z
UID:1247-1515628800-1515715199@stagingmaas.brizzy.co.uk
SUMMARY:Connected Smart Cities Conference 2018
DESCRIPTION:
URL:https://stagingmaas.brizzy.co.uk/event/connected-smart-cities-conference-2018/
LOCATION:Brussels
END:VEVENT
BEGIN:VEVENT
DTSTART;VALUE=DATE:20180118
DTEND;VALUE=DATE:20180119
DTSTAMP:20260425T164310
CREATED:20180112T113033Z
LAST-MODIFIED:20180112T113033Z
UID:1253-1516233600-1516319999@stagingmaas.brizzy.co.uk
SUMMARY:6th European Automotive Forum - Urban (Auto)Mobility
DESCRIPTION:
URL:https://stagingmaas.brizzy.co.uk/event/6th-european-automotive-forum-urban-automobility/
LOCATION:Brussels
END:VEVENT
BEGIN:VEVENT
DTSTART;VALUE=DATE:20180123
DTEND;VALUE=DATE:20180125
DTSTAMP:20260425T164310
CREATED:20171205T140619Z
LAST-MODIFIED:20171205T140619Z
UID:1169-1516665600-1516838399@stagingmaas.brizzy.co.uk
SUMMARY:Transport Ticketing Global
DESCRIPTION:
URL:https://stagingmaas.brizzy.co.uk/event/transport-ticketing-global/
LOCATION:London
END:VEVENT
BEGIN:VEVENT
DTSTART;VALUE=DATE:20180124
DTEND;VALUE=DATE:20180125
DTSTAMP:20260425T164310
CREATED:20171205T140215Z
LAST-MODIFIED:20171205T140215Z
UID:1161-1516752000-1516838399@stagingmaas.brizzy.co.uk
SUMMARY:Multimodality Year Launch
DESCRIPTION:On 24th of January a cocktail reception will be held to launch the Multimodality Year 2018. The launch event\, taking place at the Residence Palace in Brussels\, will focus on sustainable and efficient multi-modal transport for people and goods.
URL:https://stagingmaas.brizzy.co.uk/event/multimodality-year-launch/
LOCATION:Brussels
END:VEVENT
BEGIN:VEVENT
DTSTART;VALUE=DATE:20180124
DTEND;VALUE=DATE:20180125
DTSTAMP:20260425T164310
CREATED:20171205T140437Z
LAST-MODIFIED:20171205T140437Z
UID:1162-1516752000-1516838399@stagingmaas.brizzy.co.uk
SUMMARY:IMPART: The Midlands Intelligent Mobility Conference 2018
DESCRIPTION:
URL:https://stagingmaas.brizzy.co.uk/event/impart-midlands-intelligent-mobility-conference-2018/
LOCATION:Nottingham\, United Kingdom
END:VEVENT
BEGIN:VEVENT
DTSTART;VALUE=DATE:20180207
DTEND;VALUE=DATE:20180209
DTSTAMP:20260425T164310
CREATED:20170804T102327Z
LAST-MODIFIED:20170804T102327Z
UID:740-1517961600-1518134399@stagingmaas.brizzy.co.uk
SUMMARY:5th ConnecteDriver & Smart Mobility Conference
DESCRIPTION:
URL:https://stagingmaas.brizzy.co.uk/event/5th-connectedriver-smart-mobility-conference/
LOCATION:Brussels
END:VEVENT
BEGIN:VEVENT
DTSTART;VALUE=DATE:20180209
DTEND;VALUE=DATE:20180210
DTSTAMP:20260425T164310
CREATED:20180125T131005Z
LAST-MODIFIED:20180125T131005Z
UID:1275-1518134400-1518220799@stagingmaas.brizzy.co.uk
SUMMARY:MyCorridor Workshop: Mobility-as a-Service Across Borders
DESCRIPTION:
URL:https://stagingmaas.brizzy.co.uk/event/mycorridor-workshop-mobility-service-across-borders/
LOCATION:London
END:VEVENT
BEGIN:VEVENT
DTSTART;VALUE=DATE:20180220
DTEND;VALUE=DATE:20180221
DTSTAMP:20260425T164310
CREATED:20171205T141228Z
LAST-MODIFIED:20171205T141228Z
UID:1173-1519084800-1519171199@stagingmaas.brizzy.co.uk
SUMMARY:2nd Annual Scottish Transport Infrastructure Conference: What’s Coming Next?
DESCRIPTION:
URL:https://stagingmaas.brizzy.co.uk/event/2nd-annual-scottish-transport-infrastructure-conference-whats-coming-next/
LOCATION:Edinburgh\, Scotland\, United Kingdom
END:VEVENT
BEGIN:VEVENT
DTSTART;VALUE=DATE:20180220
DTEND;VALUE=DATE:20180222
DTSTAMP:20260425T164310
CREATED:20170919T143908Z
LAST-MODIFIED:20170919T143908Z
UID:939-1519084800-1519257599@stagingmaas.brizzy.co.uk
SUMMARY:MaaS Market Conference
DESCRIPTION:
URL:https://stagingmaas.brizzy.co.uk/event/maas-market-conference-2/
LOCATION:London
END:VEVENT
END:VCALENDAR