BEGIN:VCALENDAR
VERSION:2.0
PRODID:-//MAAS-Alliance - ECPv6.15.12.2//NONSGML v1.0//EN
CALSCALE:GREGORIAN
METHOD:PUBLISH
X-ORIGINAL-URL:https://stagingmaas.brizzy.co.uk
X-WR-CALDESC:Events for MAAS-Alliance
REFRESH-INTERVAL;VALUE=DURATION:PT1H
X-Robots-Tag:noindex
X-PUBLISHED-TTL:PT1H
BEGIN:VTIMEZONE
TZID:Europe/Brussels
BEGIN:DAYLIGHT
TZOFFSETFROM:+0100
TZOFFSETTO:+0200
TZNAME:CEST
DTSTART:20170326T010000
END:DAYLIGHT
BEGIN:STANDARD
TZOFFSETFROM:+0200
TZOFFSETTO:+0100
TZNAME:CET
DTSTART:20171029T010000
END:STANDARD
BEGIN:DAYLIGHT
TZOFFSETFROM:+0100
TZOFFSETTO:+0200
TZNAME:CEST
DTSTART:20180325T010000
END:DAYLIGHT
BEGIN:STANDARD
TZOFFSETFROM:+0200
TZOFFSETTO:+0100
TZNAME:CET
DTSTART:20181028T010000
END:STANDARD
BEGIN:DAYLIGHT
TZOFFSETFROM:+0100
TZOFFSETTO:+0200
TZNAME:CEST
DTSTART:20190331T010000
END:DAYLIGHT
BEGIN:STANDARD
TZOFFSETFROM:+0200
TZOFFSETTO:+0100
TZNAME:CET
DTSTART:20191027T010000
END:STANDARD
END:VTIMEZONE
BEGIN:VEVENT
DTSTART;VALUE=DATE:20180306
DTEND;VALUE=DATE:20180309
DTSTAMP:20260424T182208
CREATED:20171205T141406Z
LAST-MODIFIED:20171205T141406Z
UID:1175-1520294400-1520553599@stagingmaas.brizzy.co.uk
SUMMARY:IT-TRANS
DESCRIPTION:
URL:https://stagingmaas.brizzy.co.uk/event/it-trans/
LOCATION:Karlsruhe\, Germany
END:VEVENT
BEGIN:VEVENT
DTSTART;VALUE=DATE:20180320
DTEND;VALUE=DATE:20180322
DTSTAMP:20260424T182208
CREATED:20171026T162645Z
LAST-MODIFIED:20171026T162645Z
UID:1112-1521504000-1521676799@stagingmaas.brizzy.co.uk
SUMMARY:City Car Summit 2018
DESCRIPTION:
URL:https://stagingmaas.brizzy.co.uk/event/city-car-summit-2018/
LOCATION:Berlin
END:VEVENT
BEGIN:VEVENT
DTSTART;VALUE=DATE:20180320
DTEND;VALUE=DATE:20180324
DTSTAMP:20260424T182208
CREATED:20171205T141543Z
LAST-MODIFIED:20171205T141543Z
UID:1179-1521504000-1521849599@stagingmaas.brizzy.co.uk
SUMMARY:InterTraffic
DESCRIPTION:
URL:https://stagingmaas.brizzy.co.uk/event/intertraffic/
LOCATION:Amsterdam
END:VEVENT
BEGIN:VEVENT
DTSTART;VALUE=DATE:20180326
DTEND;VALUE=DATE:20180329
DTSTAMP:20260424T182208
CREATED:20171211T100026Z
LAST-MODIFIED:20171211T100026Z
UID:1220-1522022400-1522281599@stagingmaas.brizzy.co.uk
SUMMARY:Second World Congress on Maintenance Modernisation\, Adaptation of Road’s & Streets for Tomorrow’s Mobility
DESCRIPTION:
URL:https://stagingmaas.brizzy.co.uk/event/second-world-congress-maintenance-modernisation-adaptation-roads-streets-tomorrows-mobility/
LOCATION:Nice\, France
END:VEVENT
BEGIN:VEVENT
DTSTART;VALUE=DATE:20180329
DTEND;VALUE=DATE:20180330
DTSTAMP:20260424T182208
CREATED:20180319T175859Z
LAST-MODIFIED:20180319T175859Z
UID:1434-1522281600-1522367999@stagingmaas.brizzy.co.uk
SUMMARY:Redefining Mobility Summit
DESCRIPTION:
URL:https://stagingmaas.brizzy.co.uk/event/redefining-mobility-summit/
LOCATION:San Ramon\, CA\, United States
END:VEVENT
END:VCALENDAR