BEGIN:VCALENDAR
VERSION:2.0
PRODID:-//MAAS-Alliance - ECPv6.15.12.2//NONSGML v1.0//EN
CALSCALE:GREGORIAN
METHOD:PUBLISH
X-WR-CALNAME:MAAS-Alliance
X-ORIGINAL-URL:https://stagingmaas.brizzy.co.uk
X-WR-CALDESC:Events for MAAS-Alliance
REFRESH-INTERVAL;VALUE=DURATION:PT1H
X-Robots-Tag:noindex
X-PUBLISHED-TTL:PT1H
BEGIN:VTIMEZONE
TZID:Europe/Brussels
BEGIN:DAYLIGHT
TZOFFSETFROM:+0100
TZOFFSETTO:+0200
TZNAME:CEST
DTSTART:20180325T010000
END:DAYLIGHT
BEGIN:STANDARD
TZOFFSETFROM:+0200
TZOFFSETTO:+0100
TZNAME:CET
DTSTART:20181028T010000
END:STANDARD
BEGIN:DAYLIGHT
TZOFFSETFROM:+0100
TZOFFSETTO:+0200
TZNAME:CEST
DTSTART:20190331T010000
END:DAYLIGHT
BEGIN:STANDARD
TZOFFSETFROM:+0200
TZOFFSETTO:+0100
TZNAME:CET
DTSTART:20191027T010000
END:STANDARD
BEGIN:DAYLIGHT
TZOFFSETFROM:+0100
TZOFFSETTO:+0200
TZNAME:CEST
DTSTART:20200329T010000
END:DAYLIGHT
BEGIN:STANDARD
TZOFFSETFROM:+0200
TZOFFSETTO:+0100
TZNAME:CET
DTSTART:20201025T010000
END:STANDARD
END:VTIMEZONE
BEGIN:VEVENT
DTSTART;VALUE=DATE:20190305
DTEND;VALUE=DATE:20190308
DTSTAMP:20260423T114642
CREATED:20181213T132210Z
LAST-MODIFIED:20181213T132210Z
UID:1959-1551744000-1552003199@stagingmaas.brizzy.co.uk
SUMMARY:Rail Live 2019
DESCRIPTION:
URL:https://stagingmaas.brizzy.co.uk/event/rail-live-2019/
LOCATION:Bilbao\, Bilbao Exhibition Centre\, Bilbao\, 48902\, Spain
END:VEVENT
BEGIN:VEVENT
DTSTART;VALUE=DATE:20190305
DTEND;VALUE=DATE:20190308
DTSTAMP:20260423T114642
CREATED:20190201T160658Z
LAST-MODIFIED:20190201T160658Z
UID:2069-1551744000-1552003199@stagingmaas.brizzy.co.uk
SUMMARY:National Shared Mobility Summit
DESCRIPTION:
URL:https://stagingmaas.brizzy.co.uk/event/shared-mobility-summit/
LOCATION:Chicago\, United States
END:VEVENT
BEGIN:VEVENT
DTSTART;VALUE=DATE:20190320
DTEND;VALUE=DATE:20190322
DTSTAMP:20260423T114642
CREATED:20181213T133738Z
LAST-MODIFIED:20181213T133738Z
UID:1961-1553040000-1553212799@stagingmaas.brizzy.co.uk
SUMMARY:4th MaaS Market Conference
DESCRIPTION:The conference is supported by the MaaS Alliance and special discounts are available for public sector organisations and their staff.
URL:https://stagingmaas.brizzy.co.uk/event/maas-market/
LOCATION:London
END:VEVENT
END:VCALENDAR