BEGIN:VCALENDAR
VERSION:2.0
PRODID:-//MAAS-Alliance - ECPv6.15.12.2//NONSGML v1.0//EN
CALSCALE:GREGORIAN
METHOD:PUBLISH
X-WR-CALNAME:MAAS-Alliance
X-ORIGINAL-URL:https://stagingmaas.brizzy.co.uk
X-WR-CALDESC:Events for MAAS-Alliance
REFRESH-INTERVAL;VALUE=DURATION:PT1H
X-Robots-Tag:noindex
X-PUBLISHED-TTL:PT1H
BEGIN:VTIMEZONE
TZID:Europe/Brussels
BEGIN:DAYLIGHT
TZOFFSETFROM:+0100
TZOFFSETTO:+0200
TZNAME:CEST
DTSTART:20180325T010000
END:DAYLIGHT
BEGIN:STANDARD
TZOFFSETFROM:+0200
TZOFFSETTO:+0100
TZNAME:CET
DTSTART:20181028T010000
END:STANDARD
BEGIN:DAYLIGHT
TZOFFSETFROM:+0100
TZOFFSETTO:+0200
TZNAME:CEST
DTSTART:20190331T010000
END:DAYLIGHT
BEGIN:STANDARD
TZOFFSETFROM:+0200
TZOFFSETTO:+0100
TZNAME:CET
DTSTART:20191027T010000
END:STANDARD
BEGIN:DAYLIGHT
TZOFFSETFROM:+0100
TZOFFSETTO:+0200
TZNAME:CEST
DTSTART:20200329T010000
END:DAYLIGHT
BEGIN:STANDARD
TZOFFSETFROM:+0200
TZOFFSETTO:+0100
TZNAME:CET
DTSTART:20201025T010000
END:STANDARD
END:VTIMEZONE
BEGIN:VEVENT
DTSTART;TZID=Europe/Brussels:20190411T090000
DTEND;TZID=Europe/Brussels:20190411T170000
DTSTAMP:20260423T114642
CREATED:20190201T155843Z
LAST-MODIFIED:20190201T155843Z
UID:2063-1554973200-1555002000@stagingmaas.brizzy.co.uk
SUMMARY:Open Mobility Conference 2019
DESCRIPTION:The MaaS Alliance and TravelSpirit Foundation are delighted to announce the Open Mobility Conference 2019 is now sold out! \n \nThis new event will examine how to build an open ecosystem of mobility and lay the foundations for seamless Mobility as a Service (MaaS) \nTake a look at the agenda here!  \nOur confirmed speakers include: \n\nJacob Bansgaard –  ERTICO – ITS Europe & MaaS Alliance\nKrista Huhtala-Jenks – MaaS Global\nJehan de The – Europcar Mobility Group\nKoen Kennis – City of Antwerp\nRoss Douglas – Autonomy Paris\nOana Savu –  International Air Transport Association (IATA)\nRalf Frisch – MHP – a Porsche Company\nHsien-Hui Tong – SGInnovate\nGiles Bailey – TravelSpirit Foundation\nSusanne Ritzmann – Open Source Lab\nSimon Herko – Iconic Blockchain\nDavid Carnero – Kisio Digital\nEric Mink – Ministry of Infrastructure and Water Management\, the Netherlands\nDavor Meersman – Open and Agile Smart Cities\n\nThe journey towards an open ecosystem of mobility starts with the Open Mobility Conference 2019!
URL:https://stagingmaas.brizzy.co.uk/event/open-mobility-conference-2019/
LOCATION:Brussels
END:VEVENT
END:VCALENDAR