BEGIN:VCALENDAR
VERSION:2.0
PRODID:-//MAAS-Alliance - ECPv6.15.12.2//NONSGML v1.0//EN
CALSCALE:GREGORIAN
METHOD:PUBLISH
X-WR-CALNAME:MAAS-Alliance
X-ORIGINAL-URL:https://stagingmaas.brizzy.co.uk
X-WR-CALDESC:Events for MAAS-Alliance
REFRESH-INTERVAL;VALUE=DURATION:PT1H
X-Robots-Tag:noindex
X-PUBLISHED-TTL:PT1H
BEGIN:VTIMEZONE
TZID:Europe/Brussels
BEGIN:DAYLIGHT
TZOFFSETFROM:+0100
TZOFFSETTO:+0200
TZNAME:CEST
DTSTART:20190331T010000
END:DAYLIGHT
BEGIN:STANDARD
TZOFFSETFROM:+0200
TZOFFSETTO:+0100
TZNAME:CET
DTSTART:20191027T010000
END:STANDARD
BEGIN:DAYLIGHT
TZOFFSETFROM:+0100
TZOFFSETTO:+0200
TZNAME:CEST
DTSTART:20200329T010000
END:DAYLIGHT
BEGIN:STANDARD
TZOFFSETFROM:+0200
TZOFFSETTO:+0100
TZNAME:CET
DTSTART:20201025T010000
END:STANDARD
BEGIN:DAYLIGHT
TZOFFSETFROM:+0100
TZOFFSETTO:+0200
TZNAME:CEST
DTSTART:20210328T010000
END:DAYLIGHT
BEGIN:STANDARD
TZOFFSETFROM:+0200
TZOFFSETTO:+0100
TZNAME:CET
DTSTART:20211031T010000
END:STANDARD
END:VTIMEZONE
BEGIN:VEVENT
DTSTART;VALUE=DATE:20200316
DTEND;VALUE=DATE:20200317
DTSTAMP:20260422T125422
CREATED:20200205T144528Z
LAST-MODIFIED:20200205T144528Z
UID:2789-1584316800-1584403199@stagingmaas.brizzy.co.uk
SUMMARY:MOD & MaaS Alliance Insurance Workshop (POSTPONED)
DESCRIPTION:THIS EVENT HAS BEEN POSTPONED UNTIL FURTHER NOTICE \nFollowing the successful workshop held in Paris last fall\, the MOD Alliance and MaaS Alliance are organising a second workshop on Insurance. The event will take place in Chicago on Monday\, 16 March 2020\, starting at 9:15. The registration is now open via this link. \nThe event will take place in conjunction with the Shared-Use Mobility Summit in Chicago.
URL:https://stagingmaas.brizzy.co.uk/event/mod-maas-alliance-insurance-workshop/
LOCATION:Chicago\, United States
END:VEVENT
BEGIN:VEVENT
DTSTART;VALUE=DATE:20200317
DTEND;VALUE=DATE:20200320
DTSTAMP:20260422T125422
CREATED:20200205T144817Z
LAST-MODIFIED:20200205T144817Z
UID:2792-1584403200-1584662399@stagingmaas.brizzy.co.uk
SUMMARY:Shared Mobility Summit - POSTPONED
DESCRIPTION:In the interest of the health and safety of all\, and after much discussion with partners and our board\, we have decided to reschedule the 2020 National Shared Mobility Summit on March 17-19 for a later date. \nJoin over 800 public- and private-sector leaders\, innovators\, and advocates for an immersive three days of cross-sector collaboration dedicated to achieving equitable\, accessible\, affordable\, and clean mobility. This year\, we’re offering an enhanced summit experience designed to maximize learning\, collaboration\, and partnership. Find out more about the Summit here.
URL:https://stagingmaas.brizzy.co.uk/event/shared-mobility-summit-2/
LOCATION:Chicago\, United States
END:VEVENT
BEGIN:VEVENT
DTSTART;VALUE=DATE:20200318
DTEND;VALUE=DATE:20200320
DTSTAMP:20260422T125422
CREATED:20200204T084740Z
LAST-MODIFIED:20200204T084740Z
UID:2784-1584489600-1584662399@stagingmaas.brizzy.co.uk
SUMMARY:Mobility as a Service in Europe - POSTPONED
DESCRIPTION:This event has been postponed to September 2020\, dates are still to be confirmed. \nMobility-as-a-Service (MaaS) has rapidly gained acceptance in Europe. Pioneering MaaS projects have been launched in cities such as Annemasse\, Angers\, Antwerp\, Berlin\, Birmingham\, Dusseldorf\, Gothenburg\, Helsinki\, Madrid\, Manchester\, Paris\, Stockholm and Vienna in the past two years. \nTo accelerate the implementation of MaaS\, the European Commission has launched three projects — MyCorridor\, iMOVE and MaaS EU – under the EU Horizon 2020 programme. Going forward\, the market size of MaaS is expected to increase at a compound annual growth rate of 35-40 per cent by 2025. Nearly three-fourth of this growth will be driven by cities in Western Europe. It is expected that MaaS will include not only public transport and private mobility service providers but also parking\, electric vehicle charging\, road toll collection\, services at stations and other value-added services. \nWhile MaaS presents opportunities to create a user-centric experience through transport behaviour analysis\, there are concerns about data sharing and privacy. There are also questions on who should drive the integration of mobility options and value-added services – a private integrator or the transport authority. These concerns need to be resolved if the anticipated growth has to be achieved. \nTo learn about MaaS applications\, discuss these developments and explore opportunities\, Global Mass Transit is organising a conference on Mobility-as-a-Service in Europe: Plans and Opportunities; Technology and Solutions on March 18-19\, 2020 at the InterContinental Amstel in Amsterdam. \nFind out more.
URL:https://stagingmaas.brizzy.co.uk/event/mobility-as-a-service-in-europe/
LOCATION:Amsterdam
END:VEVENT
END:VCALENDAR