BEGIN:VCALENDAR
VERSION:2.0
PRODID:-//MAAS-Alliance - ECPv6.15.12.2//NONSGML v1.0//EN
CALSCALE:GREGORIAN
METHOD:PUBLISH
X-ORIGINAL-URL:https://stagingmaas.brizzy.co.uk
X-WR-CALDESC:Events for MAAS-Alliance
REFRESH-INTERVAL;VALUE=DURATION:PT1H
X-Robots-Tag:noindex
X-PUBLISHED-TTL:PT1H
BEGIN:VTIMEZONE
TZID:Europe/Brussels
BEGIN:DAYLIGHT
TZOFFSETFROM:+0100
TZOFFSETTO:+0200
TZNAME:CEST
DTSTART:20190331T010000
END:DAYLIGHT
BEGIN:STANDARD
TZOFFSETFROM:+0200
TZOFFSETTO:+0100
TZNAME:CET
DTSTART:20191027T010000
END:STANDARD
BEGIN:DAYLIGHT
TZOFFSETFROM:+0100
TZOFFSETTO:+0200
TZNAME:CEST
DTSTART:20200329T010000
END:DAYLIGHT
BEGIN:STANDARD
TZOFFSETFROM:+0200
TZOFFSETTO:+0100
TZNAME:CET
DTSTART:20201025T010000
END:STANDARD
BEGIN:DAYLIGHT
TZOFFSETFROM:+0100
TZOFFSETTO:+0200
TZNAME:CEST
DTSTART:20210328T010000
END:DAYLIGHT
BEGIN:STANDARD
TZOFFSETFROM:+0200
TZOFFSETTO:+0100
TZNAME:CET
DTSTART:20211031T010000
END:STANDARD
END:VTIMEZONE
BEGIN:VEVENT
DTSTART;TZID=Europe/Brussels:20200513T150000
DTEND;TZID=Europe/Brussels:20200513T160000
DTSTAMP:20260422T092235
CREATED:20200504T110652Z
LAST-MODIFIED:20200504T110652Z
UID:2934-1589382000-1589385600@stagingmaas.brizzy.co.uk
SUMMARY:Webinar: Market update: what’s the current state of play in developing sustainable MaaS?
DESCRIPTION:Experts from a range of European\, international and North American organisations detail how various cities\, regions and countries are progressing with MaaS concepts\, featuring presentations from Piia Karjalainen\, Secretary General – MaaS Alliance; Amy Ford\, Director – MOD Alliance; and Sebastian Wolf\, Product Owner – Jelbi\, BVG. The speakers present their thoughts and research on the progress being made across Europe and North America\, also assessing the differences between the regions and their variations in the term ‘MaaS’. \n– Which cities/regions are succeeding best?\n– How can policymakers support growth in MaaS?\n– How do you find the balance between public and private interests?\n– Assessing the two sides of sustainability in MaaS: sustainable transport and sustainable business models \nREGISTER HERE
URL:https://stagingmaas.brizzy.co.uk/event/webinar-market-update-whats-the-current-state-of-play-in-developing-sustainable-maas/
END:VEVENT
BEGIN:VEVENT
DTSTART;VALUE=DATE:20200527
DTEND;VALUE=DATE:20200530
DTSTAMP:20260422T092235
CREATED:20191125T130802Z
LAST-MODIFIED:20191125T130802Z
UID:2672-1590537600-1590796799@stagingmaas.brizzy.co.uk
SUMMARY:ITF Summit - POSTPONED
DESCRIPTION:A new date for the premier global transport policy event is under active consideration following its postponement due to the Covid-19 pandemic. In his Summit website message\, ITF Secretary-General Young Tae Kim explains the decision\, taken after careful consideration and in close consultation with ITF member countries under the leadership of Ireland\, the ITF 2020 Presidency\, and Germany.  \nThe 2020 Summit will explore the benefits to transport and mobility brought by the recent advances in new technologies and business models to enhance the accessibility\, safety and efficiency of transport infrastructure and services. The discussions will focus on how innovation in transport can contribute to achieving the goals set out in the United Nations 2030 Agenda for Sustainable Development and what governance framework is needed to enable this. \nMore info are available on the website.
URL:https://stagingmaas.brizzy.co.uk/event/itf-summit/
LOCATION:Leipzig\, Germany
END:VEVENT
END:VCALENDAR