BEGIN:VCALENDAR
VERSION:2.0
PRODID:-//MAAS-Alliance - ECPv6.15.12.2//NONSGML v1.0//EN
CALSCALE:GREGORIAN
METHOD:PUBLISH
X-WR-CALNAME:MAAS-Alliance
X-ORIGINAL-URL:https://stagingmaas.brizzy.co.uk
X-WR-CALDESC:Events for MAAS-Alliance
REFRESH-INTERVAL;VALUE=DURATION:PT1H
X-Robots-Tag:noindex
X-PUBLISHED-TTL:PT1H
BEGIN:VTIMEZONE
TZID:Europe/Brussels
BEGIN:DAYLIGHT
TZOFFSETFROM:+0100
TZOFFSETTO:+0200
TZNAME:CEST
DTSTART:20190331T010000
END:DAYLIGHT
BEGIN:STANDARD
TZOFFSETFROM:+0200
TZOFFSETTO:+0100
TZNAME:CET
DTSTART:20191027T010000
END:STANDARD
BEGIN:DAYLIGHT
TZOFFSETFROM:+0100
TZOFFSETTO:+0200
TZNAME:CEST
DTSTART:20200329T010000
END:DAYLIGHT
BEGIN:STANDARD
TZOFFSETFROM:+0200
TZOFFSETTO:+0100
TZNAME:CET
DTSTART:20201025T010000
END:STANDARD
BEGIN:DAYLIGHT
TZOFFSETFROM:+0100
TZOFFSETTO:+0200
TZNAME:CEST
DTSTART:20210328T010000
END:DAYLIGHT
BEGIN:STANDARD
TZOFFSETFROM:+0200
TZOFFSETTO:+0100
TZNAME:CET
DTSTART:20211031T010000
END:STANDARD
END:VTIMEZONE
BEGIN:VEVENT
DTSTART;VALUE=DATE:20200701
DTEND;VALUE=DATE:20200704
DTSTAMP:20260422T053331
CREATED:20200623T081026Z
LAST-MODIFIED:20200623T081026Z
UID:3069-1593561600-1593820799@stagingmaas.brizzy.co.uk
SUMMARY:Smarter Mobility Europe
DESCRIPTION:Smarter Mobility Europe LIVE is a creative virtual 3 day summit that answers the questions\, concerns\, and hopes that the mobility industry in Europe has right now around what the mobility world will look like in Europe during and post COVID-19. \nUtilising the latest virtual conferencing tools Smarter Mobility Europe LIVE brings together key mobility decision makers and thought leaders from business and government. Strong networking and match making techniques are applied to ensure that the most relevant stakeholders are connecting. \nThe MaaS Alliance will be presented by Piia Karjalainen on 2 July during the session “Integrating on demand transport into the network“ \nFind out more.
URL:https://stagingmaas.brizzy.co.uk/event/smarter-mobility-europe/
LOCATION:ONLINE
END:VEVENT
BEGIN:VEVENT
DTSTART;VALUE=DATE:20200707
DTEND;VALUE=DATE:20200709
DTSTAMP:20260422T053331
CREATED:20200204T084454Z
LAST-MODIFIED:20200204T084454Z
UID:2783-1594080000-1594252799@stagingmaas.brizzy.co.uk
SUMMARY:IMPACT MOBILITY
DESCRIPTION:The time of procrastination is over. The Impact Mobility: Virtual Summit unites public and private transport leaders to deliver on-demand low-emission mobility services and create a sustainable business model for its emerging players. \nEurope is undergoing a revolution in urban mobility as cities outlaw ICE vehicles to meet ambitious zero emission targets whilst working to meet the evolving needs of the on-demand consumer. \nFrom Mobility as a Service and final mile logistics to public transportation and E-mobility\, data will be the critical enabler bringing together fragmented stakeholder groups and ushering in a new era of urban transportation. Data will be the critical enabler bringing together fragmented stakeholder groups and ushering in a new era of urban transportation \nJoin executive leaders from stakeholders across the value chain for two days of focused content and extensive network to discuss\, debate and shape the future of urban mobility. \nFind out more.
URL:https://stagingmaas.brizzy.co.uk/event/impact-mobility/
LOCATION:ONLINE
END:VEVENT
END:VCALENDAR