BEGIN:VCALENDAR
VERSION:2.0
PRODID:-//MAAS-Alliance - ECPv6.15.12.2//NONSGML v1.0//EN
CALSCALE:GREGORIAN
METHOD:PUBLISH
X-ORIGINAL-URL:https://stagingmaas.brizzy.co.uk
X-WR-CALDESC:Events for MAAS-Alliance
REFRESH-INTERVAL;VALUE=DURATION:PT1H
X-Robots-Tag:noindex
X-PUBLISHED-TTL:PT1H
BEGIN:VTIMEZONE
TZID:Europe/Brussels
BEGIN:DAYLIGHT
TZOFFSETFROM:+0100
TZOFFSETTO:+0200
TZNAME:CEST
DTSTART:20190331T010000
END:DAYLIGHT
BEGIN:STANDARD
TZOFFSETFROM:+0200
TZOFFSETTO:+0100
TZNAME:CET
DTSTART:20191027T010000
END:STANDARD
BEGIN:DAYLIGHT
TZOFFSETFROM:+0100
TZOFFSETTO:+0200
TZNAME:CEST
DTSTART:20200329T010000
END:DAYLIGHT
BEGIN:STANDARD
TZOFFSETFROM:+0200
TZOFFSETTO:+0100
TZNAME:CET
DTSTART:20201025T010000
END:STANDARD
BEGIN:DAYLIGHT
TZOFFSETFROM:+0100
TZOFFSETTO:+0200
TZNAME:CEST
DTSTART:20210328T010000
END:DAYLIGHT
BEGIN:STANDARD
TZOFFSETFROM:+0200
TZOFFSETTO:+0100
TZNAME:CET
DTSTART:20211031T010000
END:STANDARD
END:VTIMEZONE
BEGIN:VEVENT
DTSTART;VALUE=DATE:20200916
DTEND;VALUE=DATE:20201009
DTSTAMP:20260422T000434
CREATED:20191125T131421Z
LAST-MODIFIED:20191125T131421Z
UID:2673-1600214400-1602201599@stagingmaas.brizzy.co.uk
SUMMARY:ITS World Congress ALL-ACCESS
DESCRIPTION:“ITS World Congress ALL-ACCESS” an immersive digital education event series delivering interactive education sessions\, discussion groups\, live Q&As\, recommended content\, and vendor solution presentations in the form of case-studies\, keynotes and expert panels – all accessible on demand. \nEducation program topics and sessions reflect priority and relevant topics in the industry\, including new themes that have emerged during this COVID-19 timeframe. ITSA and the ITS America Events team are committed to ensuring that our global community of intelligent transportation leaders are able to convene virtually to connect\, discuss the latest trends in the industry and be at the forefront of recovery and innovation as we all prepare for 2021. \nFind out more here.
URL:https://stagingmaas.brizzy.co.uk/event/its-world-congress-2/
LOCATION:ONLINE
END:VEVENT
BEGIN:VEVENT
DTSTART;VALUE=DATE:20200929
DTEND;VALUE=DATE:20201002
DTSTAMP:20260422T000434
CREATED:20200323T141907Z
LAST-MODIFIED:20200323T141907Z
UID:2853-1601337600-1601596799@stagingmaas.brizzy.co.uk
SUMMARY:Urban Mobility Days
DESCRIPTION:From 29 September to 1 October 2020\, the European Commission is hosting its first Urban Mobility Days conference in Brussels\, on the theme of “zero-emission mobility for all“. The conference combines two leading events from Europe’s transport calendar: the CIVITAS Forum Conference and the European Conference on Sustainable Urban Mobility Plans (SUMPs). It will bring together policymakers\, local authorities\, academics\, NGOs\, urban transport practitioners\, urban planners and all those putting the SUMP concept into practice. Over 600 attendees are expected to participate in Urban Mobility Days 2020. \nFind out more.
URL:https://stagingmaas.brizzy.co.uk/event/urban-mobility-days/
LOCATION:Brussels
END:VEVENT
BEGIN:VEVENT
DTSTART;VALUE=DATE:20201001
DTEND;VALUE=DATE:20201003
DTSTAMP:20260422T000434
CREATED:20200907T114114Z
LAST-MODIFIED:20200907T114114Z
UID:3236-1601510400-1601683199@stagingmaas.brizzy.co.uk
SUMMARY:TNW2020 Online
DESCRIPTION:Join 25\,000 of the world’s brightest minds to explore the role tech will play in our collective future. The 15th edition of our flagship event will bring our global speaker lineup and an immersive digital experience to your living room. \nPiia Karjalainen will be speaking about MaaS on 2 October in the SHIFT stream. \nFor more information\, visit the website.
URL:https://stagingmaas.brizzy.co.uk/event/tnw2020-online/
END:VEVENT
BEGIN:VEVENT
DTSTART;TZID=Europe/Brussels:20201027T093000
DTEND;TZID=Europe/Brussels:20201027T133000
DTSTAMP:20260422T000434
CREATED:20200131T141954Z
LAST-MODIFIED:20200131T141954Z
UID:2778-1603791000-1603805400@stagingmaas.brizzy.co.uk
SUMMARY:3rd European MyCorridor Workshop - What we learned from MaaS
DESCRIPTION:MyCorridor\, the three-year MaaS project funded by the EU’s Horizon 2020 programme\, is nearing completion. Connecting MaaS issuers of various European cities and regions in order to speed up journey times and promote green choices in transport\, the MyCorridor project was designed to facilitate sustainable travel through the development of an innovative MaaS platform. At this project wrap-up event\, representatives from the MyCorridor consortium and invited guests will share valuable insights into the future of mobility\, based on the experiences gained via the MyCorridor project. \nJoin the event to find out more about the MaaS achievements made to date and discover what the future of cross-border\, collective\, interconnected transport looks like. Download the Agenda. \nREGISTER HERE
URL:https://stagingmaas.brizzy.co.uk/event/3rd-european-mycorridor-workshop/
LOCATION:ONLINE
END:VEVENT
END:VCALENDAR