BEGIN:VCALENDAR
VERSION:2.0
PRODID:-//MAAS-Alliance - ECPv6.15.12.2//NONSGML v1.0//EN
CALSCALE:GREGORIAN
METHOD:PUBLISH
X-WR-CALNAME:MAAS-Alliance
X-ORIGINAL-URL:https://stagingmaas.brizzy.co.uk
X-WR-CALDESC:Events for MAAS-Alliance
REFRESH-INTERVAL;VALUE=DURATION:PT1H
X-Robots-Tag:noindex
X-PUBLISHED-TTL:PT1H
BEGIN:VTIMEZONE
TZID:Europe/Brussels
BEGIN:DAYLIGHT
TZOFFSETFROM:+0100
TZOFFSETTO:+0200
TZNAME:CEST
DTSTART:20190331T010000
END:DAYLIGHT
BEGIN:STANDARD
TZOFFSETFROM:+0200
TZOFFSETTO:+0100
TZNAME:CET
DTSTART:20191027T010000
END:STANDARD
BEGIN:DAYLIGHT
TZOFFSETFROM:+0100
TZOFFSETTO:+0200
TZNAME:CEST
DTSTART:20200329T010000
END:DAYLIGHT
BEGIN:STANDARD
TZOFFSETFROM:+0200
TZOFFSETTO:+0100
TZNAME:CET
DTSTART:20201025T010000
END:STANDARD
BEGIN:DAYLIGHT
TZOFFSETFROM:+0100
TZOFFSETTO:+0200
TZNAME:CEST
DTSTART:20210328T010000
END:DAYLIGHT
BEGIN:STANDARD
TZOFFSETFROM:+0200
TZOFFSETTO:+0100
TZNAME:CET
DTSTART:20211031T010000
END:STANDARD
END:VTIMEZONE
BEGIN:VEVENT
DTSTART;VALUE=DATE:20201103
DTEND;VALUE=DATE:20201105
DTSTAMP:20260421T222017
CREATED:20200526T125644Z
LAST-MODIFIED:20200526T125644Z
UID:3002-1604361600-1604534399@stagingmaas.brizzy.co.uk
SUMMARY:CiTTi Exhibition
DESCRIPTION:The City Transport & Traffic Innovation (CiTTi) Exhibition will gather the industry together to explore how innovations within traffic and transport will help the movement of people and goods through an urban environment safely and efficiently. Visitor passes are completely free and will give you full access to all solutions on offer including live demonstrations of cutting edge technology\, informative free Conference streams and the chance to learn from the minds behind the latest traffic and transport innovations. \nFind out more.
URL:https://stagingmaas.brizzy.co.uk/event/citti-exhibition/
LOCATION:Coventry\, United Kingdom
END:VEVENT
BEGIN:VEVENT
DTSTART;VALUE=DATE:20201104
DTEND;VALUE=DATE:20201106
DTSTAMP:20260421T222017
CREATED:20200716T101802Z
LAST-MODIFIED:20200716T101802Z
UID:3181-1604448000-1604620799@stagingmaas.brizzy.co.uk
SUMMARY:AUTONOMY
DESCRIPTION:More than an event\, Autonomy is a Business2Business/Business2Government platform that brings together all the players involved in sustainable and intelligent mobility. Innovators\, startups and large groups trust us every year to promote their solutions to transport operators\, elected officials\, cities\, investors and the media. \nAt the heart of the new mobility ecosystem\, we benefit from a unique positioning in the market. Sitting at the crossroads of new initiatives\, innovation and different ways of thinking\, Autonomy’s place allows companies to exchange and network with professionals from different sectors who represent the mobility of tomorrow. \nFind out more.
URL:https://stagingmaas.brizzy.co.uk/event/autonomy/
LOCATION:ONLINE
END:VEVENT
BEGIN:VEVENT
DTSTART;VALUE=DATE:20201109
DTEND;VALUE=DATE:20201111
DTSTAMP:20260421T222017
CREATED:20200708T130311Z
LAST-MODIFIED:20200708T130311Z
UID:3159-1604880000-1605052799@stagingmaas.brizzy.co.uk
SUMMARY:Virtual ITS European Congress
DESCRIPTION:In this “post COVID” era\, in which everything – including mobility – needs to readjust\, ERTICO wants to ensure that debate about mobility of the future continues and that synergies amongst the ITS Community are further strengthened\, leading to even greater and smarter mobility solutions. Despite the postponement of some of the largest events in the field\, ERTICO has already begun to transform this challenge into an opportunity and is launching a revolutionary tool at the service of the ITS conversation: the Virtual ITS European Congress\, to be held on 9-10 November 2020. \nMore information available here.
URL:https://stagingmaas.brizzy.co.uk/event/virtual-its-european-congress/
LOCATION:ONLINE
END:VEVENT
BEGIN:VEVENT
DTSTART;VALUE=DATE:20201118
DTEND;VALUE=DATE:20201119
DTSTAMP:20260421T222017
CREATED:20200804T081004Z
LAST-MODIFIED:20200804T081004Z
UID:3194-1605657600-1605743999@stagingmaas.brizzy.co.uk
SUMMARY:Digital Transport Days
DESCRIPTION:European Commissioner for Transport Adina Valean\, in cooperation with the German Presidency of the Council of the European Union\, has the pleasure to announce that Digital Transport Days 2020 will be held this year on 18 November in digital format. \nThis conference will address new mobility challenges and the European vision of digitalisation for transport and mobility. It will in particular discuss to what extent the COVID-19 pandemic has affected transport and mobility\, and how digitalisation can contribute to recovery and a return to a ‘new normal’ life. It will also be the opportunity to exchange views on the contribution of digitalisation to the EU Green deal\, to TEN-T networks and to the further development of the European mobility data space. \nMore information on programme and registration are available on the website.
URL:https://stagingmaas.brizzy.co.uk/event/digital-transport-days/
LOCATION:ONLINE
END:VEVENT
END:VCALENDAR