BEGIN:VCALENDAR
VERSION:2.0
PRODID:-//MAAS-Alliance - ECPv6.15.12.2//NONSGML v1.0//EN
CALSCALE:GREGORIAN
METHOD:PUBLISH
X-ORIGINAL-URL:https://stagingmaas.brizzy.co.uk
X-WR-CALDESC:Events for MAAS-Alliance
REFRESH-INTERVAL;VALUE=DURATION:PT1H
X-Robots-Tag:noindex
X-PUBLISHED-TTL:PT1H
BEGIN:VTIMEZONE
TZID:Europe/Brussels
BEGIN:DAYLIGHT
TZOFFSETFROM:+0100
TZOFFSETTO:+0200
TZNAME:CEST
DTSTART:20200329T010000
END:DAYLIGHT
BEGIN:STANDARD
TZOFFSETFROM:+0200
TZOFFSETTO:+0100
TZNAME:CET
DTSTART:20201025T010000
END:STANDARD
BEGIN:DAYLIGHT
TZOFFSETFROM:+0100
TZOFFSETTO:+0200
TZNAME:CEST
DTSTART:20210328T010000
END:DAYLIGHT
BEGIN:STANDARD
TZOFFSETFROM:+0200
TZOFFSETTO:+0100
TZNAME:CET
DTSTART:20211031T010000
END:STANDARD
BEGIN:DAYLIGHT
TZOFFSETFROM:+0100
TZOFFSETTO:+0200
TZNAME:CEST
DTSTART:20220327T010000
END:DAYLIGHT
BEGIN:STANDARD
TZOFFSETFROM:+0200
TZOFFSETTO:+0100
TZNAME:CET
DTSTART:20221030T010000
END:STANDARD
END:VTIMEZONE
BEGIN:VEVENT
DTSTART;VALUE=DATE:20210308
DTEND;VALUE=DATE:20210310
DTSTAMP:20260421T152253
CREATED:20210127T102542Z
LAST-MODIFIED:20210127T102542Z
UID:3497-1615161600-1615334399@stagingmaas.brizzy.co.uk
SUMMARY:METRANSLOG - Middle East Transport & Logistics
DESCRIPTION:METRANSLOG – Middle East Transport & Logistics Virtual Expo and Summit (8-9 March 2021) will bring together local\, regional and international participants to showcase international best practices\, pioneering research\, development solutions\, advanced trends\, innovative products and new technologies for more efficient and even faster Transport and Logistics services. \nThe Event is a networking platform giving impetus to business for global and regional stakeholders\, C-level executives\, leading industry experts\, key decision makers\, policy makers from across the value chain to engage in dialogue\, discuss current challenges and business opportunities\, share their knowledge\, deliberate approaches and identify solutions aimed at shaping the future of the sector. \nMETRANSLOG is supported by various government\, public and private sector organizations who contribute to the growth and continued success of this pivotal industry. This Event aims to create synergy and strengthen the collaboration between the authorities and the businesses where new projects and partnerships are initiated and visionary objectives are implemented. \nPiia Karjalainen\, Secretary General of the MaaS Alliance\, will be speaking about the organisation activities and future perspectives for MaaS. \nFind out more on the event website.
URL:https://stagingmaas.brizzy.co.uk/event/metranslog-middle-east-transport-logistics/
LOCATION:ONLINE
END:VEVENT
BEGIN:VEVENT
DTSTART;VALUE=DATE:20210317
DTEND;VALUE=DATE:20210319
DTSTAMP:20260421T152253
CREATED:20210127T103518Z
LAST-MODIFIED:20210127T103518Z
UID:3499-1615939200-1616111999@stagingmaas.brizzy.co.uk
SUMMARY:MOVE America
DESCRIPTION:MOVE America brings together the people and companies redefining the transport tech industry in the US. This is where we partner\, connect\, create and discuss. OEMs\, transport operators\, tech companies\, energy giants\, fleet\, fast growing startups and policymakers will be joining us online in March\, to stay ahead of the latest developments in the future of sustainable transport. \nAurelien Cottett\, Transdev and Member of the Board of Directors of the Maas Alliance will be speaking and represent the MaaS Alliance. \nFind out more on the event website.
URL:https://stagingmaas.brizzy.co.uk/event/move-america/
LOCATION:ONLINE
END:VEVENT
BEGIN:VEVENT
DTSTART;TZID=Europe/Brussels:20210324T100000
DTEND;TZID=Europe/Brussels:20210324T170000
DTSTAMP:20260421T152253
CREATED:20210309T081728Z
LAST-MODIFIED:20210309T081728Z
UID:3680-1616580000-1616605200@stagingmaas.brizzy.co.uk
SUMMARY:Future Mobility Conference on MaaS
DESCRIPTION:Mobility as a Service (MaaS) has been around for 5 years\, and many challenges have been addressed and solved – but there is still much to do. The International Future Mobility Day\, as part of the Smart MaaS Conference\, will gather leading experts from around the world – showing insights into best practices and knowledge. The impressive lineup of speakers gather insiders from Europe and abroad\, bringing together the leaders in class. \nPiia Karjalainen\, Secretary General of the MaaS Alliance will give a keynote speech and present the developments of MaaS. \nFind out more here.
URL:https://stagingmaas.brizzy.co.uk/event/future-mobility-conference-on-maas/
LOCATION:ONLINE
END:VEVENT
BEGIN:VEVENT
DTSTART;VALUE=DATE:20210330
DTEND;VALUE=DATE:20210401
DTSTAMP:20260421T152253
CREATED:20210127T104501Z
LAST-MODIFIED:20210127T104501Z
UID:3501-1617062400-1617235199@stagingmaas.brizzy.co.uk
SUMMARY:Ticketing & Payments Innovation Summit
DESCRIPTION:Recent announcements around the potential success of a coronavirus vaccine have provided much needed hope. This two-day online summit will examine how public transport authorities and operators are leveraging innovations in ticketing\, payments and touchless / contactless technologies to help our sector return to pre-pandemic passenger traffic. Leading speakers from around the world will reveal how they are continuing to evolve their payments strategy as well as share their lessons learned. \nPiia Karjalainen\, Secretary General of the MaaS Alliance\, will be speaking about the organisation activities and future perspectives for MaaS. \nFind out more on the event website.
URL:https://stagingmaas.brizzy.co.uk/event/ticketing-payments-innovation-summit/
LOCATION:ONLINE
END:VEVENT
BEGIN:VEVENT
DTSTART;TZID=Europe/Brussels:20210331T140000
DTEND;TZID=Europe/Brussels:20210331T150000
DTSTAMP:20260421T152253
CREATED:20210316T090304Z
LAST-MODIFIED:20210316T090304Z
UID:3703-1617199200-1617202800@stagingmaas.brizzy.co.uk
SUMMARY:MaaS Market Playbook Q&A
DESCRIPTION:As a result of the work done with the members from public and private sectors and from various areas of the MaaS ecosystem\, MaaS Alliance is proud to launch the MaaS Market Playbook. By facilitating open and trusted knowledge sharing within the sector\, we have collected some insights and ideas for developing user-centric\, societally sound MaaS services.  \nIn this Playbook\, we share some of our ideas for supporting: \n• Public-private partnerships in the MaaS ecosystem\n• Setting up local Codes of Conduct for governing MaaS\n• Achieving public policy goals\n• Developing and growing the industry\n• Building a common commitment \nTo present in-depth this publication\, MaaS Alliance is organising an open interactive webinar where participants are invited to engage and ask questions about the Playbook. \nDOWNLOAD THE MAAS MARKET PLAYBOOK \nREGISTER FOR THE WEBINAR
URL:https://stagingmaas.brizzy.co.uk/event/maas-market-playbook-qa/
END:VEVENT
END:VCALENDAR