BEGIN:VCALENDAR
VERSION:2.0
PRODID:-//MAAS-Alliance - ECPv6.15.12.2//NONSGML v1.0//EN
CALSCALE:GREGORIAN
METHOD:PUBLISH
X-ORIGINAL-URL:https://stagingmaas.brizzy.co.uk
X-WR-CALDESC:Events for MAAS-Alliance
REFRESH-INTERVAL;VALUE=DURATION:PT1H
X-Robots-Tag:noindex
X-PUBLISHED-TTL:PT1H
BEGIN:VTIMEZONE
TZID:Europe/Brussels
BEGIN:DAYLIGHT
TZOFFSETFROM:+0100
TZOFFSETTO:+0200
TZNAME:CEST
DTSTART:20200329T010000
END:DAYLIGHT
BEGIN:STANDARD
TZOFFSETFROM:+0200
TZOFFSETTO:+0100
TZNAME:CET
DTSTART:20201025T010000
END:STANDARD
BEGIN:DAYLIGHT
TZOFFSETFROM:+0100
TZOFFSETTO:+0200
TZNAME:CEST
DTSTART:20210328T010000
END:DAYLIGHT
BEGIN:STANDARD
TZOFFSETFROM:+0200
TZOFFSETTO:+0100
TZNAME:CET
DTSTART:20211031T010000
END:STANDARD
BEGIN:DAYLIGHT
TZOFFSETFROM:+0100
TZOFFSETTO:+0200
TZNAME:CEST
DTSTART:20220327T010000
END:DAYLIGHT
BEGIN:STANDARD
TZOFFSETFROM:+0200
TZOFFSETTO:+0100
TZNAME:CET
DTSTART:20221030T010000
END:STANDARD
END:VTIMEZONE
BEGIN:VEVENT
DTSTART;VALUE=DATE:20210412
DTEND;VALUE=DATE:20210416
DTSTAMP:20260421T135100
CREATED:20210127T105844Z
LAST-MODIFIED:20210127T105844Z
UID:3504-1618185600-1618531199@stagingmaas.brizzy.co.uk
SUMMARY:17th ITS Asia Pacific Forum
DESCRIPTION:The 17th ITS Asia Pacific Forum is the Region’s leading transport technology event and is being hosted by Intelligent Transport Systems (ITS) Australia at the Brisbane Convention and Exhibition Centre\, Queensland Australia. The conference theme\, “ITS Innovation Creating Liveable Communities”\, will demonstrate Australia’s new initiatives and adapted learnings from the advances of our neighbouring megacities. Key topics to be covered include MaaS\, Automated Vehicles\, Data Analytics\, Transport Inclusivity\, and Network Development. \nPiia Karjalainen\, Secretary General of the MaaS Alliance\, will be speaking. \nFind out more on the event website.
URL:https://stagingmaas.brizzy.co.uk/event/17th-its-asia-pacific-forum/
LOCATION:Brisbane\, Australia
END:VEVENT
BEGIN:VEVENT
DTSTART;VALUE=DATE:20210420
DTEND;VALUE=DATE:20210423
DTSTAMP:20260421T135100
CREATED:20210215T132619Z
LAST-MODIFIED:20210215T132619Z
UID:3583-1618876800-1619135999@stagingmaas.brizzy.co.uk
SUMMARY:EUCAD Conference 2021
DESCRIPTION:The European Commission\, together with the ARCADE project\, is pleased to announce the third European Conference on Connected and Automated Driving\, which will be held virtually from 20 to 22 April 2021. \nEUCAD 2021 will be a high-level and evidence-based conference where policy challenges meet innovative solutions to deliver on societal benefits. The event is the only conference in Europe that brings together political leaders from the European Commission and Member States with high-level representatives of industry\, knowledge institutes and road authorities to exchange knowledge and experience on the most recent technological developments and policies in the area of CCAM. \nOver the course of three days\, the following topics will be discussed: \n\nThe vision and objectives of the upcoming CCAM Partnership;\nThe role of R&I to answer specific policy goals and societal issues\, illustrating the need for European political and technological leadership in developing cooperative\, connected and automated mobility solutions;\nExploring the way forward towards CCAM implementation by identifying next challenges through multisector cooperation;\n\nView the programme. \nRegistration to the conference is free and will open early 2021.
URL:https://stagingmaas.brizzy.co.uk/event/eucad-conference-2021/
END:VEVENT
BEGIN:VEVENT
DTSTART;TZID=Europe/Brussels:20210422T140000
DTEND;TZID=Europe/Brussels:20210422T153000
DTSTAMP:20260421T135100
CREATED:20210414T083033Z
LAST-MODIFIED:20210414T083033Z
UID:3753-1619100000-1619105400@stagingmaas.brizzy.co.uk
SUMMARY:MaaS Alliance Webinar - Futureproof and MaaS-ready transport infrastructure
DESCRIPTION:The webinar will focus on less discussed question of MaaS and infrastructure\, in particular\, how to plan and build future-proof and functional infrastructure for multimodal services? \nThe first webinar of a series organised by the MaaS Alliance Users & Rules Working Group\, will take place on 22 April\, 14.00-15.30 CET will dive in the questions of:\n• What kind of infrastructure we need to connect cities and regions and different modes?\n• How to unlock the power of data for better mobility and planning? \nThis webinar will be moderated by Piia Karjalainen\, Secretary General of the MaaS Alliance\, and will feature:\n• Scott Shepard\, Iomob\n• Aurelien Cottet\, Instant System\n• Robert Wrigley\, Bartle\n• Daniela Carvalho\, TIS.pt \nRegistration is open and free: https://register.gotowebinar.com/register/3355742887341866507
URL:https://stagingmaas.brizzy.co.uk/event/maas-alliance-webinar-futureproof-and-maas-ready-transport-infrastructure/
LOCATION:ONLINE
END:VEVENT
BEGIN:VEVENT
DTSTART;TZID=Europe/Brussels:20210430T100000
DTEND;TZID=Europe/Brussels:20210430T113000
DTSTAMP:20260421T135100
CREATED:20210423T091649Z
LAST-MODIFIED:20210423T091649Z
UID:5481-1619776800-1619782200@stagingmaas.brizzy.co.uk
SUMMARY:MaaS Alliance Webinar: Futureproof and MaaS-ready transport infrastructure
DESCRIPTION:This webinar is the second part of the first MaaS Alliance webinar held on 22 April organised by the MaaS Alliance Users & Rules Working Group\, and will continue the discussion on MaaS and infrastructure. \nIn particular\, leading experts and practitioners of the industry will discuss:\n•        How the future cities will look like?\n•        How MaaS will impact to city structure?\n•        How to future-proof the infrastructure plans?\n•        How to use the new datasets and tools for better planning? \nSpeakers:\n•        City of Belgrade\, Ognjen Petar Todorovic & Zoran Rubinjoni\n•        Via\, Victoria Markewitz\n•        TTS Italia\, Gennaro Ciccarelli\n•        Systra\, Aurélie Jehanno &Marie Cleuet \nModerated by Vlad Vorotovic\, ERTICO – ITS Europe \nREGISTER HERE
URL:https://stagingmaas.brizzy.co.uk/event/maas-alliance-webinar-futureproof-and-maas-ready-transport-infrastructure-2-2/
LOCATION:ONLINE
END:VEVENT
END:VCALENDAR