BEGIN:VCALENDAR
VERSION:2.0
PRODID:-//MAAS-Alliance - ECPv6.15.12.2//NONSGML v1.0//EN
CALSCALE:GREGORIAN
METHOD:PUBLISH
X-WR-CALNAME:MAAS-Alliance
X-ORIGINAL-URL:https://stagingmaas.brizzy.co.uk
X-WR-CALDESC:Events for MAAS-Alliance
REFRESH-INTERVAL;VALUE=DURATION:PT1H
X-Robots-Tag:noindex
X-PUBLISHED-TTL:PT1H
BEGIN:VTIMEZONE
TZID:Europe/Brussels
BEGIN:DAYLIGHT
TZOFFSETFROM:+0100
TZOFFSETTO:+0200
TZNAME:CEST
DTSTART:20200329T010000
END:DAYLIGHT
BEGIN:STANDARD
TZOFFSETFROM:+0200
TZOFFSETTO:+0100
TZNAME:CET
DTSTART:20201025T010000
END:STANDARD
BEGIN:DAYLIGHT
TZOFFSETFROM:+0100
TZOFFSETTO:+0200
TZNAME:CEST
DTSTART:20210328T010000
END:DAYLIGHT
BEGIN:STANDARD
TZOFFSETFROM:+0200
TZOFFSETTO:+0100
TZNAME:CET
DTSTART:20211031T010000
END:STANDARD
BEGIN:DAYLIGHT
TZOFFSETFROM:+0100
TZOFFSETTO:+0200
TZNAME:CEST
DTSTART:20220327T010000
END:DAYLIGHT
BEGIN:STANDARD
TZOFFSETFROM:+0200
TZOFFSETTO:+0100
TZNAME:CET
DTSTART:20221030T010000
END:STANDARD
END:VTIMEZONE
BEGIN:VTIMEZONE
TZID:UTC
BEGIN:STANDARD
TZOFFSETFROM:+0000
TZOFFSETTO:+0000
TZNAME:UTC
DTSTART:20200101T000000
END:STANDARD
END:VTIMEZONE
BEGIN:VEVENT
DTSTART;VALUE=DATE:20210518
DTEND;VALUE=DATE:20210519
DTSTAMP:20260421T121055
CREATED:20210127T110544Z
LAST-MODIFIED:20210127T110544Z
UID:3506-1621296000-1621382399@stagingmaas.brizzy.co.uk
SUMMARY:POSTPONED - Shared Mobility Conference
DESCRIPTION:The 2nd Shared Mobility World Conference will bring together shared mobility providers\, city authorities\, investors\, urban mobility experts\, public transport operators\, vehicle manufacturers\, to discuss the current numerous urban mobility changes. \nFind out more on the event website.
URL:https://stagingmaas.brizzy.co.uk/event/shared-mobility-2/
LOCATION:Warsaw\, Poland
END:VEVENT
BEGIN:VEVENT
DTSTART;VALUE=DATE:20210519
DTEND;VALUE=DATE:20210521
DTSTAMP:20260421T121055
CREATED:20210415T075806Z
LAST-MODIFIED:20210415T075806Z
UID:3779-1621382400-1621555199@stagingmaas.brizzy.co.uk
SUMMARY:Autonomy Digital
DESCRIPTION:More than an event\, Autonomy is a Business2Business/Business2Government platform that brings together all the players involved in sustainable and intelligent mobility. Innovators\, startups and large groups trust us every year to promote their solutions to transport operators\, elected officials\, cities\, investors and the media.  \nAt the heart of the new mobility ecosystem\, we benefit from a unique positioning in the market. Sitting at the crossroads of new initiatives\, innovation and different ways of thinking\, Autonomy’s place allows companies to exchange and network with professionals from different sectors who represent the mobility of tomorrow. The Autonomy trade show is heading into its sixth edition this May\, and its second digital.  \nUnderstanding that during the COVID-19 crisis\, clients still want to do business\, communicate and network\, but are being impeded by restricted travel and reduced events budgets\, Autonomy 2.0 brings a high value offer at a lower cost of participation. Featuring digital exhibition stands\, product demonstrations\, the Industry Talks conference program and a high-tech business meetings platform\, your company will be able to reach and engage with corporates\, policymakers\, VCs and startups from every corner of the world. \nPiia Karjalainen\, Secretary General of the MaaS Alliance\, will be speaking. \nFind out more.
URL:https://stagingmaas.brizzy.co.uk/event/autonomy-digital-10/
LOCATION:ONLINE
END:VEVENT
BEGIN:VEVENT
DTSTART;VALUE=DATE:20210520
DTEND;VALUE=DATE:20210522
DTSTAMP:20260421T121055
CREATED:20210127T111253Z
LAST-MODIFIED:20210127T111253Z
UID:3508-1621468800-1621641599@stagingmaas.brizzy.co.uk
SUMMARY:Smart Ticketing & Digital Services Forum
DESCRIPTION:The event will be back on 20-21 May 2021 in Budapest. More information will be soon available on the event website.
URL:https://stagingmaas.brizzy.co.uk/event/smart-ticketing-digital-services-forum/
LOCATION:Budapest
END:VEVENT
BEGIN:VEVENT
DTSTART;VALUE=DATE:20210526
DTEND;VALUE=DATE:20210529
DTSTAMP:20260421T121055
CREATED:20210127T111558Z
LAST-MODIFIED:20210510T070222Z
UID:3511-1621987200-1622246399@stagingmaas.brizzy.co.uk
SUMMARY:ITF 2021 Summit
DESCRIPTION:The Annual Summit of the International Transport Forum (ITF) is the premier global transport policy event. Since 2008\, the Summit brings together ministers from around the world to share policy perspectives with CEOs\, heads of international organisations\, thought leaders from civil society and academia\, and media. Over the past few years Summit participation has grown to over 1000 participants from more than 70 countries\, well beyond the 60 member countries of the ITF. \nThe Summit addresses strategic and topical issues across all transport modes where participants can engage in the debate through a variety of session formats. Each year at the Summit\, ministers from ITF member countries adopt the annual Ministerial Declaration that sets out a range of engagements to carry forth sound policy and practice in the area of focus of the current Summit. \nPiia Karjalainen will speak at the Virtual Ministers’ Roundtable 2: Managing the transition to Mobility as a Service (MaaS)\, which is scheduled on Wednesday 26 May\, from 08:30 to 10:00 CEST. \nFind out more on the event website.
URL:https://stagingmaas.brizzy.co.uk/event/itf-2021-summit/
LOCATION:Leipzig\, Germany
END:VEVENT
BEGIN:VEVENT
DTSTART;TZID=UTC:20210526T140000
DTEND;TZID=UTC:20210526T153000
DTSTAMP:20260421T121055
CREATED:20210511T122426Z
LAST-MODIFIED:20210511T124238Z
UID:5741-1622037600-1622043000@stagingmaas.brizzy.co.uk
SUMMARY:WEBINAR: On the path to net-zero through multimodality
DESCRIPTION:Despite innovative green mobility solutions being deployed and the political support it has received\, passenger mobility is falling behind its emission reduction goals set by governments around the world. The shift to multimodal transport is often mentioned at the top of the list of transformations that will substantially contribute to ambitious emission targets. Yet\, multimodality and its enabler\, Mobility as a Service\, has yet to deliver on its promises and set passenger mobility on the path to net-zero. \nThis webinar will explore the real potential of multimodality in reducing transport emission\, the principles to report on the reduction made and the key drivers to make multimodality live up to the expectations. This webinar is the first in Iomob’s Net-Zero webinar series. \nJoin the discussion and have your opinion heard in this interactive webinar.
URL:https://stagingmaas.brizzy.co.uk/event/webinar-on-the-path-to-net-zero-through-multimodality/
LOCATION:ONLINE
END:VEVENT
END:VCALENDAR